Workbook
Name _Hlk225329483: 申請書!$B$47
Name Excel_BuiltIn_Print_Area: '(別紙4)収支計画'!$A$3:$I$24
Name Excel_BuiltIn_Print_Area: '(別紙4)収支明細書'!$A$3:$I$24

Sheet 申請書
A1: 別記様式第１号(第４条関係)
S2: 令和 年 月 日 | T2: 8 | U2: 年 | W2: 月 | Y2: 日 | AA2: =IF(OR(NOT(ISNUMBER(T2)),NOT(ISNUMBER(V2)),NOT(ISNUMBER(X2))),"日付に未入力があります","") -> 日付に未入力があります
A4: （宛先）新潟市長
N6: 申請者住所 〒 | AA6: =IF(TRIM(R6)="","郵便番号に未入力があります","") -> 郵便番号に未入力があります
P7: 新潟市 | AA7: =IF(TRIM(R7)="","住所に未入力があります","") -> 住所に未入力があります
N8: 団体名 | AA8: =IF(TRIM(R8)="","団体名に未入力があります","") -> 団体名に未入力があります
N9: 代表者氏名 | AA9: =IF(TRIM(R9)="","代表者氏名に未入力があります","") -> 代表者氏名に未入力があります
N10: 代表者電話番号 | AA10: =IF(TRIM(R10)="","代表者電話番号に未入力があります","") -> 代表者電話番号に未入力があります
H12: 新潟市中学生のための地域クラブ活動支援事業
H13: 補助金交付申請書
A16: 補助金の交付を受けたいので、次のとおり申請します。
A17: 申請者は、「新潟市中学生のための地域クラブ活動支援事業補助金交付要綱」を遵守するとともに、同要綱第2条各号の
A18: いずれにも該当する者であることを誓約します。また、活動に関する新潟市の調査依頼に協力します。
L20: 記
A23: １ 補助事業の名称 | I23: 令和８年度 新潟市中学生のための地域クラブ活動支援事業
A26: ２ 補助事業の目的及び内容 | I26: 中学生のためのスポーツや文化芸術活動の自主的かつ主体的な活動の
I27: 取り組みの促進を図るとともに、実施主体となる団体の立ち上げ整備及び
I28: 運営支援
A30: ３ | B30: 補助対象経費 | I30: 謝金、研修受講料、消耗品費、施設使用料
A32: ４ | B32: 交付申請額及びその算定方法 | I32: =+'(別紙1－1)年間活動計画'!F109 -> 0 | M32: 円 | O32: 別紙1-1、1-2による | AA32: =IF(TRIM(I32)="","交付決定額に未入力があります","")
C33: (うち、消耗品交付申請額) | I33: =+'(別紙1－1)年間活動計画'!F107 -> 0 | M33: 円 | AA33: =IF(TRIM(I33)="","うち、消耗品交付決定額に未入力があります","")
A35: ５ | B35: 補助事業の着手(予定)年月日 | I35: 令和 | J35: =+T2 -> 8 | K35: 年 | L35: =+V2 | M35: 月 | N35: 1 | O35: 日 | AA35: =IF(OR(NOT(ISNUMBER(J35)),NOT(ISNUMBER(L35)),NOT(ISNUMBER(N35))),"日付に未入力があります","") -> 日付に未入力があります
A38: ６ | B38: 補助事業の完了(予定)年月日 | I38: 令和 | J38: 9 | K38: 年 | L38: 2 | M38: 月 | N38: 28 | O38: 日 | AA38: =IF(OR(NOT(ISNUMBER(J38)),NOT(ISNUMBER(L38)),NOT(ISNUMBER(N38))),"日付に未入力があります","")
A40: 7 | B40: 情報の公表の内容、方法及び時期 | I40: 「新潟市中学生のための地域クラブ活動支援事業補助金」を受けていることを会員募集時、会報、大会パンフレット、各種チラシ、SNS等で随時周知。 | AA40: =IF(TRIM(I40)="","情報の公表の状況に未入力があります","")
A42: 【添付書類】
A43: １ | B43: 年間活動計画 (収支予算を含む)
A44: ２ | B44: 銀行口座情報
A45: ３ | B45: 新潟市制度用の納税証明書(団体に対して新潟市税が課税されている場合に限る)
A46: ４ | B46: その他市長が必要と認める書類
B47: ①構成員の名簿、②概算払事業費収支計画書、③概算払依頼書

Sheet 概算払い
A2: 別記様式第３号(第６条第２号関係) | S2: 令和 年 月 日 | T2: =+申請書!T2 -> 8 | U2: 年 | V2: =+申請書!V2 | W2: 月 | X2: =+申請書!X2 | Y2: 日 | AA2: =IF(OR(NOT(ISNUMBER(T2)),NOT(ISNUMBER(V2)),NOT(ISNUMBER(X2))),"日付に未入力があります","") -> 日付に未入力があります
A4: （宛先）新潟市長
N6: 申請者住所 〒 | R6: =+申請書!R6 -> 0 | AA6: =IF(TRIM(R6)="","郵便番号に未入力があります","")
P7: 新潟市 | R7: =+申請書!R7 -> 0 | AA7: =IF(TRIM(R7)="","住所に未入力があります","")
N8: 団体名 | R8: =+申請書!R8 -> 0 | AA8: =IF(TRIM(R8)="","団体名に未入力があります","")
N9: 代表者氏名 | R9: =+申請書!R9 -> 0 | AA9: =IF(TRIM(R9)="","代表者氏名に未入力があります","")
N10: 代表者電話番号 | R10: =+申請書!R10 -> 0 | AA10: =IF(TRIM(R10)="","代表者電話番号に未入力があります","") | AC10: このシートは申請書を入力すると自動で完成するため、入力不要です。
H12: 新潟市中学生のための地域クラブ活動支援事業補助金
H13: 概算払依頼書
A17: 令和 | C17: =+T2 -> 8 | D17: 年 | E17: =+V2 | F17: 月 | G17: =+X2 | H17: 日付けで申請しました中学生のための地域クラブ活動支援事業補助について、 | AA17: =IF(OR(NOT(ISNUMBER(C17)),NOT(ISNUMBER(E17)),NOT(ISNUMBER(G17))),"日付に未入力があります","") -> 日付に未入力があります
A18: 下記により概算払いを依頼します。
L20: 記
A23: １ 補助事業の名称 令和８年度 新潟市中学生のための地域クラブ活動支援事業補助金
A26: ２ 概算交付希望額 | I26: =+申請書!I32 -> 0 | M26: 円 | AA26: =IF(TRIM(I26)="","交付決定額に未入力があります","")
A29: ３ 概算払いを必要とする理由 | I29: 当団体は低廉な会費で運営しており、年間活動中に謝金の不足が生じる見込みである。安定的な運営を図るためには、概算払いが必要であるため。 | AA29: =IF(TRIM(I29)="","情報の公表の状況に未入力があります","")

Sheet (別紙1－1)年間活動計画
B2: 【別紙1－1】 令和８年度 年間活動計画 | M2: 申請月 | O2: 9月
B3: ★黄色のセルに入力してください | O3: ↑最初に選択してください
B4: 団体名 | D4: =+申請書!R8 -> 0 | O4: =IF(SUMPRODUCT(--(LEN(TRIM(SUBSTITUTE(D4," ","")))=0))>0,"未入力があります","")
B5: 種目 | O5: =IF(SUMPRODUCT(--(LEN(TRIM(SUBSTITUTE(D5," ","")))=0))>0,"未入力があります","") -> 未入力があります
B6: 活動曜日・時間 | O6: =IF(SUMPRODUCT(--(LEN(TRIM(SUBSTITUTE(D6," ","")))=0))>0,"未入力があります","") -> 未入力があります
B7: 【団体情報】 | C7: ※申請された月からの予定日数を記載してください
C8: =IF(C$10=$O$2,"●","") | D8: =IF(D$10=$O$2,"●","") | E8: =IF(E$10=$O$2,"●","") | F8: =IF(F$10=$O$2,"●","") | G8: =IF(G$10=$O$2,"●","") | H8: =IF(H$10=$O$2,"●","") -> ● | I8: =IF(I$10=$O$2,"●","") | J8: =IF(J$10=$O$2,"●","") | ... N8: =IF(N$10=$O$2,"●","")
C9: =IF(C$8="",IF(B$9="","","●"),"●") | D9: =IF(D$8="",IF(C$9="","","●"),"●") | E9: =IF(E$8="",IF(D$9="","","●"),"●") | F9: =IF(F$8="",IF(E$9="","","●"),"●") | G9: =IF(G$8="",IF(F$9="","","●"),"●") | H9: =IF(H$8="",IF(G$9="","","●"),"●") -> ● | I9: =IF(I$8="",IF(H$9="","","●"),"●") -> ● | J9: =IF(J$8="",IF(I$9="","","●"),"●") -> ● | ... N9: =IF(N$8="",IF(M$9="","","●"),"●") -> ●
B10: 月別活動実績 | C10: 4月 | D10: 5月 | E10: 6月 | F10: 7月 | G10: 8月 | H10: 9月 | I10: 10月 | J10: 11月 | K10: 12月 | L10: 1月 | M10: 2月 | O10: 合計 | P10: {=IF(SUMPRODUCT(--(LEN(TRIM(SUBSTITUTE(C11:M11," ","")))=0))>0,"活動日数に未入力があります","")} -> 活動日数に未入力があります
B11: 活動日数 | O11: =SUMIFS(C11:M11,C9:M9,"●") -> 0
C12: =IF(C$9="","0を入力","") -> 0を入力 | D12: =IF(D$9="","0を入力","") -> 0を入力 | E12: =IF(E$9="","0を入力","") -> 0を入力 | F12: =IF(F$9="","0を入力","") -> 0を入力 | G12: =IF(G$9="","0を入力","") -> 0を入力 | H12: =IF(H$9="","0を入力","") | I12: =IF(I$9="","0を入力","") | J12: =IF(J$9="","0を入力","") | ... L12: =IF(L$9="","0を入力","") | M12: =IF(M$9="","入力不可","") | N12: =IF(N$9="","入力不可","") | O12: (単位:円) | V12: 時間
C13: ※申請月を選んだ後に0を入力の文字が出た場合、活動日数に0を入力してください | M13: 補助上限額 | O13: =+S15 -> 0 | P13: =IF(OR(SUBSTITUTE(TRIM(H11)," ","")="",SUBSTITUTE(TRIM(I11)," ","")="",SUBSTITUTE(TRIM(J11)," ","")="",SUBSTITUTE(TRIM(K11)," ","")="",SUBSTITUTE(TRIM(L11)," ","")="",SUBSTITUTE(TRIM(M11)," ","")=""),"活動予定日数を入力してください","") -> 活動予定日数を入力してください | S13: =IF(O11>200,300000,IF(O11>150,300000,IF(O11>100,300000,IF(O11>50,200000,IF(O11>0,100000,0))))) -> 0 | V13: 回数
O14: (単位:人) | V14: 月額
B15: 【指導者情報】 | M15: 指導者人数 (必ず入力) | S15: =IF(O15<1," ",IF(O15=1,S13/2,IF(O15>1,S13,0))) -> 0 | V15: 年額
O16: =IF(SUMPRODUCT(--(LEN(TRIM(SUBSTITUTE(O15," ","")))=0))>0,"指導者人数に未入力があります","") -> 指導者人数に未入力があります | V16: その他
B17: 指導者氏名 1 | G17: 謝金の支払形態 (時間・回数・月額・年額) | K17: 金額 (形態ごとの単価) | O17: =IF(OR(SUBSTITUTE(TRIM(C17)," ","")="",SUBSTITUTE(TRIM(I17)," ","")="",SUBSTITUTE(TRIM(M17)," ","")=""),"黄色セルに未入力があります","") -> 黄色セルに未入力があります
B18: 月別指導実績 | C18: 4月 | D18: 5月 | E18: 6月 | F18: 7月 | G18: 8月 | H18: 9月 | I18: 10月 | J18: 11月 | K18: 12月 | L18: 1月 | M18: 2月 | O18: 合計 | P18: {=IF(SUMPRODUCT((COLUMN(C19:M19)>=COLUMN(C19)+MATCH($O$2,C18:M18,0)-1)*(LEN(TRIM(SUBSTITUTE(C19:M19," ","")))=0))>0,"活動日数に未入力があります","")} -> 活動日数に未入力があります
B19: 活動日数 | O19: =SUM(C19:N19) -> 0
B20: 月別支払額 | O20: =SUM(C20:M20) -> 0 | P20: {=IF(SUMPRODUCT((COLUMN(C20:M20)>=COLUMN(C20)+MATCH($O$2,C18:M18,0)-1)*(LEN(TRIM(SUBSTITUTE(C20:M20," ","")))=0))>0,"月別支払額に未入力があります","")} -> 月別支払額に未入力があります
B21: 月別補助上限額 | C21: =+C19*1000 -> 0 | D21: =+D19*1000 -> 0 | E21: =+E19*1000 -> 0 | F21: =+F19*1000 -> 0 | G21: =+G19*1000 -> 0 | H21: =+H19*1000 -> 0 | I21: =+I19*1000 -> 0 | J21: =+J19*1000 -> 0 | ... M21: =+M19*1000 -> 0 | O21: =SUM(C21:M21) -> 0 | S21: 4月 | T21: 5月 | U21: 6月 | V21: 7月 | W21: 8月 | X21: 9月 | Y21: 10月 | Z21: 11月 | AA21: 12月 | AB21: 1月 | AC21: 2月 | AD21: 3月
B22: 月別補助額 | C22: =+S22 -> 0 | D22: =+T22 -> 0 | E22: =+U22 -> 0 | F22: =+V22 -> 0 | G22: =+W22 -> 0 | H22: =+X22 -> 0 | I22: =+Y22 -> 0 | J22: =+Z22 -> 0 | ... M22: =+AC22 -> 0 | O22: =SUM(C22:M22) -> 0 | S22: =IF(C20/2>C21,C21,C20/2) -> 0 | T22: =IF(D20/2>D21,D21,D20/2) -> 0 | U22: =IF(E20/2>E21,E21,E20/2) -> 0 | V22: =IF(F20/2>F21,F21,F20/2) -> 0 | W22: =IF(G20/2>G21,G21,G20/2) -> 0 | X22: =IF(H20/2>H21,H21,H20/2) -> 0 | Y22: =IF(I20/2>I21,I21,I20/2) -> 0 | Z22: =IF(J20/2>J21,J21,J20/2) -> 0 | ... AC22: =IF(M20/2>M21,M21,M20/2) -> 0
C23: =IF(C$9="","入力不可","") -> 入力不可 | D23: =IF(D$9="","入力不可","") -> 入力不可 | E23: =IF(E$9="","入力不可","") -> 入力不可 | F23: =IF(F$9="","入力不可","") -> 入力不可 | G23: =IF(G$9="","入力不可","") -> 入力不可 | H23: =IF(H$9="","入力不可","") | I23: =IF(I$9="","入力不可","") | J23: =IF(J$9="","入力不可","") | ... N23: =IF(N$9="","入力不可","")
B24: 指導者氏名 2 | G24: 謝金の支払形態 (時間・回数・月額・年額) | K24: 金額 (形態ごとの単価) | O24: =IF(OR(SUBSTITUTE(TRIM(C24)," ","")="",SUBSTITUTE(TRIM(I24)," ","")="",SUBSTITUTE(TRIM(M24)," ","")=""),"黄色セルに未入力があります","") -> 黄色セルに未入力があります
B25: 月別指導実績 | C25: 4月 | D25: 5月 | E25: 6月 | F25: 7月 | G25: 8月 | H25: 9月 | I25: 10月 | J25: 11月 | K25: 12月 | L25: 1月 | M25: 2月 | O25: 合計 | P25: {=IF(SUMPRODUCT((COLUMN(C26:M26)>=COLUMN(C26)+MATCH($O$2,C25:M25,0)-1)*(LEN(TRIM(SUBSTITUTE(C26:M26," ","")))=0))>0,"活動日数に未入力があります","")} -> 活動日数に未入力があります
B26: 活動日数 | O26: =SUM(C26:M26) -> 0
B27: 月別支払額 | O27: =SUM(C27:M27) -> 0 | P27: {=IF(SUMPRODUCT((COLUMN(C27:M27)>=COLUMN(C27)+MATCH($O$2,C25:M25,0)-1)*(LEN(TRIM(SUBSTITUTE(C27:M27," ","")))=0))>0,"月別支払額に未入力があります","")} -> 月別支払額に未入力があります
B28: 月別補助上限額 | C28: =+C26*1000 -> 0 | D28: =+D26*1000 -> 0 | E28: =+E26*1000 -> 0 | F28: =+F26*1000 -> 0 | G28: =+G26*1000 -> 0 | H28: =+H26*1000 -> 0 | I28: =+I26*1000 -> 0 | J28: =+J26*1000 -> 0 | ... M28: =+M26*1000 -> 0 | O28: =SUM(C28:M28) -> 0 | S28: 4月 | T28: 5月 | U28: 6月 | V28: 7月 | W28: 8月 | X28: 9月 | Y28: 10月 | Z28: 11月 | AA28: 12月 | AB28: 1月 | AC28: 2月 | AD28: 3月
B29: 月別補助額 | C29: =+S29 -> 0 | D29: =+T29 -> 0 | E29: =+U29 -> 0 | F29: =+V29 -> 0 | G29: =+W29 -> 0 | H29: =+X29 -> 0 | I29: =+Y29 -> 0 | J29: =+Z29 -> 0 | ... M29: =+AC29 -> 0 | O29: =SUM(C29:M29) -> 0 | S29: =IF(C27/2>C28,C28,C27/2) -> 0 | T29: =IF(D27/2>D28,D28,D27/2) -> 0 | U29: =IF(E27/2>E28,E28,E27/2) -> 0 | V29: =IF(F27/2>F28,F28,F27/2) -> 0 | W29: =IF(G27/2>G28,G28,G27/2) -> 0 | X29: =IF(H27/2>H28,H28,H27/2) -> 0 | Y29: =IF(I27/2>I28,I28,I27/2) -> 0 | Z29: =IF(J27/2>J28,J28,J27/2) -> 0 | ... AC29: =IF(M27/2>M28,M28,M27/2) -> 0
C30: =IF(C$9="","入力不可","") -> 入力不可 | D30: =IF(D$9="","入力不可","") -> 入力不可 | E30: =IF(E$9="","入力不可","") -> 入力不可 | F30: =IF(F$9="","入力不可","") -> 入力不可 | G30: =IF(G$9="","入力不可","") -> 入力不可 | H30: =IF(H$9="","入力不可","") | I30: =IF(I$9="","入力不可","") | J30: =IF(J$9="","入力不可","") | ... N30: =IF(N$9="","入力不可","")
B31: 指導者氏名 3 | G31: 謝金の支払形態 (時間・回数・月額・年額) | K31: 金額 (形態ごとの単価) | O31: =IF(OR(SUBSTITUTE(TRIM(C31)," ","")="",SUBSTITUTE(TRIM(I31)," ","")="",SUBSTITUTE(TRIM(M31)," ","")=""),"黄色セルに未入力があります","") -> 黄色セルに未入力があります
B32: 月別指導実績 | C32: 4月 | D32: 5月 | E32: 6月 | F32: 7月 | G32: 8月 | H32: 9月 | I32: 10月 | J32: 11月 | K32: 12月 | L32: 1月 | M32: 2月 | O32: 合計 | P32: {=IF(SUMPRODUCT((COLUMN(C33:M33)>=COLUMN(C33)+MATCH($O$2,C32:M32,0)-1)*(LEN(TRIM(SUBSTITUTE(C33:M33," ","")))=0))>0,"活動日数に未入力があります","")} -> 活動日数に未入力があります
B33: 活動日数 | O33: =SUM(C33:M33) -> 0
B34: 月別支払額 | O34: =SUM(C34:M34) -> 0 | P34: {=IF(SUMPRODUCT((COLUMN(C34:M34)>=COLUMN(C34)+MATCH($O$2,C32:M32,0)-1)*(LEN(TRIM(SUBSTITUTE(C34:M34," ","")))=0))>0,"月別支払額に未入力があります","")} -> 月別支払額に未入力があります
B35: 月別補助上限額 | C35: =+C33*1000 -> 0 | D35: =+D33*1000 -> 0 | E35: =+E33*1000 -> 0 | F35: =+F33*1000 -> 0 | G35: =+G33*1000 -> 0 | H35: =+H33*1000 -> 0 | I35: =+I33*1000 -> 0 | J35: =+J33*1000 -> 0 | ... M35: =+M33*1000 -> 0 | O35: =SUM(C35:M35) -> 0 | S35: 4月 | T35: 5月 | U35: 6月 | V35: 7月 | W35: 8月 | X35: 9月 | Y35: 10月 | Z35: 11月 | AA35: 12月 | AB35: 1月 | AC35: 2月 | AD35: 3月
B36: 月別補助額 | C36: =+S36 -> 0 | D36: =+T36 -> 0 | E36: =+U36 -> 0 | F36: =+V36 -> 0 | G36: =+W36 -> 0 | H36: =+X36 -> 0 | I36: =+Y36 -> 0 | J36: =+Z36 -> 0 | ... M36: =+AC36 -> 0 | O36: =SUM(C36:M36) -> 0 | S36: =IF(C34/2>C35,C35,C34/2) -> 0 | T36: =IF(D34/2>D35,D35,D34/2) -> 0 | U36: =IF(E34/2>E35,E35,E34/2) -> 0 | V36: =IF(F34/2>F35,F35,F34/2) -> 0 | W36: =IF(G34/2>G35,G35,G34/2) -> 0 | X36: =IF(H34/2>H35,H35,H34/2) -> 0 | Y36: =IF(I34/2>I35,I35,I34/2) -> 0 | Z36: =IF(J34/2>J35,J35,J34/2) -> 0 | ... AC36: =IF(M34/2>M35,M35,M34/2) -> 0
C37: =IF(C$9="","入力不可","") -> 入力不可 | D37: =IF(D$9="","入力不可","") -> 入力不可 | E37: =IF(E$9="","入力不可","") -> 入力不可 | F37: =IF(F$9="","入力不可","") -> 入力不可 | G37: =IF(G$9="","入力不可","") -> 入力不可 | H37: =IF(H$9="","入力不可","") | I37: =IF(I$9="","入力不可","") | J37: =IF(J$9="","入力不可","") | ... N37: =IF(N$9="","入力不可","")
B38: 指導者氏名 4 | G38: 謝金の支払形態 (時間・回数・月額・年額) | K38: 金額 (形態ごとの単価) | O38: =IF(OR(SUBSTITUTE(TRIM(C38)," ","")="",SUBSTITUTE(TRIM(I38)," ","")="",SUBSTITUTE(TRIM(M38)," ","")=""),"黄色セルに未入力があります","") -> 黄色セルに未入力があります
B39: 月別指導実績 | C39: 4月 | D39: 5月 | E39: 6月 | F39: 7月 | G39: 8月 | H39: 9月 | I39: 10月 | J39: 11月 | K39: 12月 | L39: 1月 | M39: 2月 | O39: 合計 | P39: {=IF(SUMPRODUCT((COLUMN(C40:M40)>=COLUMN(C40)+MATCH($O$2,C39:M39,0)-1)*(LEN(TRIM(SUBSTITUTE(C40:M40," ","")))=0))>0,"活動日数に未入力があります","")} -> 活動日数に未入力があります
B40: 活動日数 | O40: =SUM(C40:M40) -> 0
B41: 月別支払額 | O41: =SUM(C41:M41) -> 0 | P41: {=IF(SUMPRODUCT((COLUMN(C41:M41)>=COLUMN(C41)+MATCH($O$2,C39:M39,0)-1)*(LEN(TRIM(SUBSTITUTE(C41:M41," ","")))=0))>0,"月別支払額に未入力があります","")} -> 月別支払額に未入力があります
...

Sheet (別紙1－2)消耗品計画
A2: 【別紙1－2】 令和８年度 消耗品購入計画 | L2: 申請月 | N2: ='(別紙1－1)年間活動計画'!O2 -> 9月
A3: ★黄色のセルに入力してください
A4: 団体名 | C4: =IF(TRIM(SUBSTITUTE(申請書!R8," ",""))="","申請書のシートに団体名を入力してください",申請書!R8) -> 申請書のシートに団体名を入力してください
A6: 以下の消耗品は、１品30,000円未満（税込）、かつ、地域クラブの共用の物品であり、
A7: 個人に帰属するものではありません。
N8: （単位：円、税込）
A9: NO | B9: 購入月 | C9: 品名 | H9: 個数 | I9: 単価 (30,000円未満) | K9: 金額 (支払予定額) | M9: 交付申請額
A10: 1 | K10: =H10*I10 -> 0 | M10: =ROUNDDOWN(K10/2,0) -> 0
A11: 2 | K11: =H11*I11 -> 0 | M11: =ROUNDDOWN(K11/2,0) -> 0
A12: 3 | K12: =H12*I12 -> 0 | M12: =ROUNDDOWN(K12/2,0) -> 0
A13: 4 | K13: =H13*I13 -> 0 | M13: =ROUNDDOWN(K13/2,0) -> 0
A14: 5 | K14: =H14*I14 -> 0 | M14: =ROUNDDOWN(K14/2,0) -> 0
A15: 6 | K15: =H15*I15 -> 0 | M15: =ROUNDDOWN(K15/2,0) -> 0
A16: 7 | K16: =H16*I16 -> 0 | M16: =ROUNDDOWN(K16/2,0) -> 0
A17: 8 | K17: =H17*I17 -> 0 | M17: =ROUNDDOWN(K17/2,0) -> 0
A18: 9 | K18: =H18*I18 -> 0 | M18: =ROUNDDOWN(K18/2,0) -> 0
A19: 10 | K19: =H19*I19 -> 0 | M19: =ROUNDDOWN(K19/2,0) -> 0
A20: 11 | K20: =H20*I20 -> 0 | M20: =ROUNDDOWN(K20/2,0) -> 0
A21: 12 | K21: =H21*I21 -> 0 | M21: =ROUNDDOWN(K21/2,0) -> 0
... A39: 30 | K39: =H39*I39 -> 0 | M39: =ROUNDDOWN(K39/2,0) -> 0
A40: 合計 | H40: =SUM(H10:H39) -> 0 | I40: =SUM(I10:J39) -> 0 | K40: =SUM(K10:L39) -> 0 | M40: =SUM(M10:N39) -> 0
A42: 【留意事項】 | N42: (単位:円)
A43: 1 申請月の前月以前に購入したものは補助対象外です。 | J43: B | K43: 補助金交付申請額 | N43: =ROUNDDOWN(Q43,-3) -> 0 | Q43: =IF(M40>100000,100000,M40) -> 0
A44: 2 交付申請額に１円未満の端数がる場合は、切り捨てた金額です。 | J44: ※補助金交付申請額は千円未満を切捨てた金額です
J45: ※補助上限額は、100,000円です
K47: =+K40 -> 0

Sheet (別紙2)口座情報
A1: 【別紙2】 口座情報
A2: ★緑色のセルに入力してください
A3: 団体名 | C3: =IF(TRIM(SUBSTITUTE(申請書!R8," ",""))="","申請書のシートに団体名を入力してください",申請書!R8) -> 申請書のシートに団体名を入力してください | J3: ←自動入力
A5: 金融機関名 | M5: 銀行
A6: 金融機関コード | M6: 信用金庫
A7: 支店名 （ゆうちょ銀行は店名） | M7: 農業協同組合 | N7: 支店
A8: 支店コード （ゆうちょ銀行は店番） | N8: 本店
A9: 口座種別 （プルダウンから選択）
A10: 口座番号 （右詰め）
A11: 口座名義 | B11: フリガナ
B12: 漢字
A14: 【注意事項】
A15: 1.クラブ名ではなく、代表者の口座名義の場合、以下の項目を確認し、チェックしてください
A16: 申請した口座は団体専用口座で個人の入出金をするものではありません | N16: ✔
A18: 2.クラブ名または1のクラブ代表者の口座名義以外の場合、「委任状」に入力してください

Sheet 委任状
A1: 委任状兼口座振替申込書
H3: 令和 | J3: =+申請書!T2 -> 8 | K3: 年 | L3: =+申請書!V2 | M3: 月 | N3: =+申請書!X2 | O3: 日
A4: 新潟市長 様 | Q4: ★緑色のセルに入力してください
A7: 委 任 状 | B7: 委 任 者 | C7: 住所（郵便番号） | E7: 〒 | F7: =+申請書!R6 -> 0
C8: （住所） | E8: 新潟市 | F8: =+申請書!R7 -> 0
C9: 氏名（団体名） | E9: =IF(TRIM(SUBSTITUTE(申請書!R8," ",""))="","申請書のシートに団体名を入力してください",申請書!R8) -> 申請書のシートに団体名を入力してください
C10: （代表者名）代表 | E10: =+申請書!R9 -> 0
B11: 受 任 者 | C11: 住所（郵便番号） | P11: =IF(SUMPRODUCT(--(LEN(TRIM(SUBSTITUTE(E11," ","")))=0))>0,"郵便番号に未入力があります","") -> 郵便番号に未入力があります
C12: （住所） | P12: =IF(SUMPRODUCT(--(LEN(TRIM(SUBSTITUTE(E12," ","")))=0))>0,"住所に未入力があります","") -> 住所に未入力があります
C13: 氏名（団体名） | P13: =IF(SUMPRODUCT(--(LEN(TRIM(SUBSTITUTE(E13," ","")))=0))>0,"団体名に未入力があります","") -> 団体名に未入力があります
C14: （役職） | P14: =IF(SUMPRODUCT(--(LEN(TRIM(SUBSTITUTE(E14," ","")))=0))>0,"役職に未入力があります","") -> 役職に未入力があります
C15: (氏名) | P15: =IF(SUMPRODUCT(--(LEN(TRIM(SUBSTITUTE(E15," ","")))=0))>0,"氏名に未入力があります","") -> 氏名に未入力があります
B16: 委任事項 | C16: 令和８年度新潟市中学生のための地域クラブ活動補助金(概算払)の債権受領に関する権限の一切を委任します。
A18: 口座振替申込書 | B18: 金融機関名 | D18: =+'(別紙2)口座情報'!C5 -> 0 | F18: 銀行 | G18: 預金種別 | I18: =+'(別紙2)口座情報'!C9 -> 0
D19: =+'(別紙2)口座情報'!C7 -> 0 | F19: =+'(別紙2)口座情報'!H7 -> 0 | G19: 口座番号 | I19: =+'(別紙2)口座情報'!C10 -> 0 | J19: =+'(別紙2)口座情報'!D10 -> 0 | K19: =+'(別紙2)口座情報'!E10 -> 0 | L19: =+'(別紙2)口座情報'!F10 -> 0 | M19: =+'(別紙2)口座情報'!G10 -> 0 | N19: =+'(別紙2)口座情報'!H10 -> 0 | O19: =+'(別紙2)口座情報'!I10 -> 0
B20: 口座名義 | D20: =+'(別紙2)口座情報'!C12 -> 0
P22: =IF(SUMPRODUCT(--(LEN(TRIM(SUBSTITUTE(D20," ","")))=0))>0,"口座名義に未入力があります","")

Sheet (別紙3)収支予算
A1: 令和８年度 収支予算
A3: 【団体名】 | B3: =IF(TRIM(SUBSTITUTE(申請書!R8," ",""))="","申請書のシートに団体名を入力してください",申請書!R8) -> 申請書のシートに団体名を入力してください
A5: １ 収入の部
A6: 費目 | B6: 予算額 | C6: 付記
A7: 会費 | B7: =+'(別紙4)収支計画'!B23 -> 0
A8: 補助金 | B8: =+'(別紙4)収支計画'!C23 -> 0 | C8: 千円未満切捨て
A9: 繰越金・その他 | B9: =+'(別紙4)収支計画'!D23 -> 0
A10: 収入 合計 | B10: =SUM(B7:B9) -> 0
A12: ２ 支出の部
A13: 費目 | B13: 予算額 | C13: 付記
A14: 【補助対象経費】
A15: 指導者謝金 | B15: =+'(別紙4)収支計画'!E23 -> 0 | C15: 申請月以降の指導者謝金
A16: 研修受講料 | B16: ='(別紙4)収支計画'!F23 -> 0 | C16: 申請月以降の実際に支払う額
A17: 消耗品費 | B17: ='(別紙4)収支計画'!G23 -> 0 | C17: 申請月以降の実際に支払う額
A18: 小計 | B18: =SUM(B15:B17) -> 0
A19: 【補助対象外経費】
A20: 指導者謝金 | B20: =+'(別紙4)収支計画'!H23 -> 0 | C20: 申請月より前に支払った指導者謝金
A21: その他 | B21: =+'(別紙4)収支計画'!I23 -> 0
A22: 小計 | B22: =SUM(B20:B21) -> 0
A23: 支出 合計 | B23: =+B22+B18 -> 0
A25: ※(別紙4)収支計画書を作成すると自動で完成するので、 入力は不要です。

Sheet (別紙4)収支計画
A4: 令和８年度 概算払事業費収支計画書 | I4: 申請月 | J4: ='(別紙1－1)年間活動計画'!O2 -> 9月
A5: ★水色のセルに入力してください
A7: 【団体名】 | C7: =IF(TRIM(SUBSTITUTE(申請書!R8," ",""))="","申請書のシートに団体名を入力してください",申請書!R8) -> 申請書のシートに団体名を入力してください
J8: (単位:円)
A9: 月 | B9: 収入 | E9: 支出 | J9: 収支累計
B10: 会費 | C10: 補助金 | D10: 繰越金 その他 | E10: 補助対象経費 | H10: 補助対象外経費
E11: 指導者謝金 | F11: 研修受講料 | G11: 消耗品費 | H11: 指導者謝金 | I11: その他・繰越金 | L11: 収入 | M11: 支出
A12: ４月 | E12: =+'(別紙1－1)年間活動計画'!C102 -> 0 | J12: =+L12-M12 -> 0 | K12: =IF(J12="","",IF(J12<0,"収支累計がマイナスです。入力し直してください","")) | L12: =SUM(B12:D12) -> 0 | M12: =SUM(E12:I12) -> 0
A13: ５月 | E13: =+'(別紙1－1)年間活動計画'!D$102 -> 0 | J13: =+J12+L13-M13 -> 0 | K13: =IF(J13="","",IF(J13<0,"収支累計がマイナスです。入力し直してください","")) | L13: =SUM(B13:D13) -> 0 | M13: =SUM(E13:I13) -> 0
A14: ６月 | E14: =+'(別紙1－1)年間活動計画'!E$102 -> 0 | J14: =+J13+L14-M14 -> 0 | K14: =IF(J14="","",IF(J14<0,"収支累計がマイナスです。入力し直してください","")) | L14: =SUM(B14:D14) -> 0 | M14: =SUM(E14:I14) -> 0
A15: ７月 | E15: =+'(別紙1－1)年間活動計画'!F$102 -> 0 | J15: =+J14+L15-M15 -> 0 | K15: =IF(J15="","",IF(J15<0,"収支累計がマイナスです。入力し直してください","")) | L15: =SUM(B15:D15) -> 0 | M15: =SUM(E15:I15) -> 0
A16: ８月 | E16: =+'(別紙1－1)年間活動計画'!G$102 -> 0 | J16: =+J15+L16-M16 -> 0 | K16: =IF(J16="","",IF(J16<0,"収支累計がマイナスです。入力し直してください","")) | L16: =SUM(B16:D16) -> 0 | M16: =SUM(E16:I16) -> 0
A17: ９月 | E17: =+'(別紙1－1)年間活動計画'!H$102 -> 0 | J17: =+J16+L17-M17 -> 0 | K17: =IF(J17="","",IF(J17<0,"収支累計がマイナスです。入力し直してください","")) | L17: =SUM(B17:D17) -> 0 | M17: =SUM(E17:I17) -> 0
A18: １０月 | E18: =+'(別紙1－1)年間活動計画'!I$102 -> 0 | J18: =+J17+L18-M18 -> 0 | K18: =IF(J18="","",IF(J18<0,"収支累計がマイナスです。入力し直してください","")) | L18: =SUM(B18:D18) -> 0 | M18: =SUM(E18:I18) -> 0
A19: １１月 | E19: =+'(別紙1－1)年間活動計画'!J$102 -> 0 | J19: =+J18+L19-M19 -> 0 | K19: =IF(J19="","",IF(J19<0,"収支累計がマイナスです。入力し直してください","")) | L19: =SUM(B19:D19) -> 0 | M19: =SUM(E19:I19) -> 0
A20: １２月 | E20: =+'(別紙1－1)年間活動計画'!K$102 -> 0 | J20: =+J19+L20-M20 -> 0 | K20: =IF(J20="","",IF(J20<0,"収支累計がマイナスです。入力し直してください","")) | L20: =SUM(B20:D20) -> 0 | M20: =SUM(E20:I20) -> 0
A21: １月 | E21: =+'(別紙1－1)年間活動計画'!L$102 -> 0 | J21: =+J20+L21-M21 -> 0 | K21: =IF(J21="","",IF(J21<0,"収支累計がマイナスです。入力し直してください","")) | L21: =SUM(B21:D21) -> 0 | M21: =SUM(E21:I21) -> 0
A22: ２月 | E22: =+'(別紙1－1)年間活動計画'!M$102 -> 0 | J22: =+J21+L22-M22 -> 0 | K22: =IF(J22="","",IF(J22<0,"収支累計がマイナスです。入力し直してください","")) | L22: =SUM(B22:D22) -> 0 | M22: =SUM(E22:I22) -> 0
A23: 小計 | B23: =SUM(B12:B22) -> 0 | C23: =SUM(C12:C22) -> 0 | D23: =SUM(D12:D22) -> 0 | E23: =IF(SUM(E12:E22)='(別紙1－1)年間活動計画'!O102,SUM(E12:E22),"入力誤り") -> 0 | F23: =IF(SUM(F12:F22)='(別紙1－1)年間活動計画'!O105,SUM(F12:F22),"入力誤り") -> 0 | G23: =IF(SUM(G12:G22)='(別紙1－2)消耗品計画'!K40,SUM(G12:G22),"入力誤り") -> 0 | H23: =SUM(H12:H22) -> 0 | I23: =SUM(I12:I22) -> 0 | J23: =+L23-M23 -> 0 | K23: =IF(J23="","",IF(J23<0,"収支累計がマイナスです。入力し直してください","")) | L23: =SUM(B23:D23) -> 0 | M23: =SUM(E23:I23) -> 0
A24: 合計 | B24: =SUM(B23:D23) -> 0 | E24: =SUM(E23:I23) -> 0 | J24: =+J23+L24-M24 -> 0 | K24: =IF(J24="","",IF(J24<0,"収支累計がマイナスです。入力し直してください",""))
C25: =IF(B24=E24,"","⚠ 収支が一致していません。収入・支出それぞれの項目を確認してください。")
C26: =IF(OR(B35,B36),"補助金は申請月の翌月に計上してください","") -> 補助金は申請月の翌月に計上してください
B27: 【留意事項】
B28: 1. 収入と支出の合計は一致させてください
B29: 2. 補助金は概算払いの申請の翌月に計上してください (例:4月に概算払いの申請をした場合は5月に計上)
B30: 3.申請より前の月に支払った指導者謝金は、「補助対象外経費」の指導者謝金に計上してください
B31: 4.補助対象経費（謝金、研修受講料、消耗品費等）の領収書は、5年間保管してください。
B32: 5.補助対象経費（謝金、研修受講料、消耗品費等）の領収書は、5年間保管してください。
B35: =IF(J4="4月",C13="",IF(J4="5月",C14="",IF(J4="6月",C15="",IF(J4="7月",C16="",IF(J4="8月",C17="",IF(J4="9月",C18="",IF(J4="10月",C19="",IF(J4="11月",C20="",IF(J4="12月",C21="",IF(J4="1月",C22="","")))))))))) -> TRUE | C35: 翌月未入力チェック
B36: =OR(AND(J4="4月",COUNTIF(C12:C12,">0")+COUNTIF(C14:C22,">0")>0),AND(J4="5月",COUNTIF(C12:C13,">0")+COUNTIF(C15:C22,">0")>0),AND(J4="6月",COUNTIF(C12:C14,">0")+COUNTIF(C16:C22,">0")>0),AND(J4="7月",COUNTIF(C12:C15,">0")+COUNTIF(C17:C22,">0")>0),AND(J4="8月",COUNTIF(C12:C16,">0")+COUNTIF(C18:C22,">0")>0),AND(J4="9月",COUNTIF(C12:C17,">0")+COUNTIF(C19:C22,">0")>0),AND(J4="10月",COUNTIF(C12:C18,">0")+COUNTIF(C20:C22,">0")>0),AND(J4="11月",COUNTIF(C12:C19,">0")+COUNTIF(C21:C22,">0")>0),AND(J4="12月",COUNTIF(C12:C20,">0")+COUNTIF(C22:C22,">0")>0),AND(J4="1月",COUNTIF(C12:C21,">0")>0)) -> FALSE | C36: 翌月以外への補助金入力チェック

Sheet チェックシート(申請)
B1: 申請用
B2: 【団体名】 | C2: =IF(TRIM(SUBSTITUTE([1]申請書!R8," ",""))="","申請書のシートに団体名を入力してください",[1]申請書!R8) -> 申請書のシートに団体名を入力してください | F2: №
F3: ※推進室確認欄
B4: チェック項目 (OKならば団体確認欄のチェックマーク✓を選択してください) | E4: 団体 確認欄 | F4: 推進室① | G4: 推進室②
B5: 申請書
B6: 黄色のセルを、全てもれなく入力したか
B7: 赤字のエラーメッセージは出ていないか
B8: 添付書類の「構成員の名簿」は作成済みか ★(申請の際、同時に送ること)
B9: 名簿には生徒の氏名と在籍する中学校名の記載があるか ★(新潟市内の中学生の在籍が必須)
B10: 納税証明が必要な場合、添付したか ★(団体として課税されている場合のみ、指導者個人のものは不要)
B11: 別紙1-1年間活動実績報告 謝金・研修受講料
B12: 黄色のセルを、全てもれなく入力したか
B13: 活動曜日と時間は合わせて週11時間以内か ★(平日2H以内、休日3H以内、週に2日以上の休養日を設ける)
B14: 研修受講料を入力したか (補助金申請をする場合のみ)
B15: 赤字のエラーメッセージは出ていないか
B16: 別紙1-2消耗品費
... B26: 赤字のエラーメッセージは出ていないか
E28: ✔

Sheet 中間報告書
A1: ※黄色のセルに入力してください
S2: 令和 年 月 日 | U2: 年 | W2: 月 | Y2: 日 | AA2: =IF(OR(NOT(ISNUMBER(T2)),NOT(ISNUMBER(V2)),NOT(ISNUMBER(X2))),"日付に未入力があります","") -> 日付に未入力があります
A4: （宛先）新潟市長
N6: 申請者住所 〒 | R6: =+申請書!R6 -> 0 | AA6: =IF(TRIM(R6)="","郵便番号に未入力があります","")
P7: 新潟市 | R7: =+申請書!R7 -> 0 | AA7: =IF(TRIM(R7)="","住所に未入力があります","")
N8: 団体名 | R8: =+申請書!R8 -> 0 | AA8: =IF(TRIM(R8)="","団体名に未入力があります","") | AB8: 申請時と代表が変わっていないか確認してください
N9: 代表者氏名 | R9: =+申請書!R9 -> 0 | AA9: =IF(TRIM(R9)="","代表者氏名に未入力があります","")
N10: 代表者電話番号 | R10: =+申請書!R10 -> 0 | AA10: =IF(TRIM(R10)="","代表者電話番号に未入力があります","")
H12: 新潟市中学生のための地域クラブ活動支援事業
H13: 補助事業実績報告書 (中間報告)
A17: 令和8年 | D17: 月 | F17: 日 | G17: 付け | H17: 新教支第 | L17: 号の2で補助金の交付決定があった事業につき | AA17: =IF(OR(NOT(ISNUMBER(C17)),NOT(ISNUMBER(E17)),NOT(ISNUMBER(J17))),"日付や番号に未入力があります","") -> 日付や番号に未入力があります
A18: 次のとおり報告します。
L20: 記
A23: １ 補助事業の名称 令和８年度 新潟市中学生のための地域クラブ活動支援事業
A26: ２ 交付決定額及びその中間精算額
A28: 交付決定額 | I28: =+申請書!I32 -> 0 | M28: 円 | O28: ※交付決定通知書に記載の金額を入力 | AA28: =IF(TRIM(I28)="","交付決定額に未入力があります","")
C29: (うち、消耗品交付決定額) | I29: =+申請書!I33 -> 0 | M29: 円 | O29: ※消耗品の申請をしていない場合0を入力 | AA29: =IF(TRIM(I29)="","うち、消耗品交付決定額に未入力があります","")
A31: 中間精算額（返納額） | I31: =#REF! -> #REF! | M31: 円 | N31: (精算額は自動計算です。中間報告では返納はありません。支出が申請より少なく2月の実績報告の際にこの欄に表示された場合は返納していただきます。)
A33: ３ 補助事業完了予定年月日 令和9年2月28日 | I33: 令和 | J33: 9 | K33: 年 | L33: 2 | M33: 月 | N33: 28 | O33: 日 | AA33: =IF(OR(J33="",L33="",N33=""),"",IF(OR(J33<8,J33>9),"日付が誤っています",IF(OR(MONTH(DATE(J33+2018,L33,N33))<>L33,DAY(DATE(J33+2018,L33,N33))<>N33),"日付が誤っています",IF(OR(DATE(J33+2018,L33,N33)<DATE(2026,4,1),DATE(J33+2018,L33,N33)>DATE(2027,2,28)),"日付が誤っています",""))))
A35: ４ 補助事業の成果(中間までの成果) | I35: 補助事業により、会費を低廉な価格で抑えられ、必要な物品も購入でき、安定的な団体運営に繋がった。 | AA35: =IF(TRIM(I35)="","補助事業の成果に未入力があります","")
A37: ５ 補助事業の精算に係る収支明細 | J37: 別紙1-1,1-2および別紙4のとおり
A39: ６ 情報の公表の状況 | I39: 「新潟市中学生のための地域クラブ活動支援事業補助金」を受けていることを会員募集時、会報、大会パンフレット、各種チラシ、SNS等で随時周知。 | AA39: =IF(TRIM(I39)="","情報の公表の状況に未入力があります","")
A41: ７ 添付書類
A42: （１）年間活動実績報告（収支決算を含む）
A43: （２）指導者謝金に係る領収書又はその写し（該当する場合に限る）
A44: （３）指導者研修受講料に係る領収書（団体が指導者に支払った研修費用及び研修主催者へ支払った受講料にかかるもの）
B45: 又はその写し(該当する場合に限る)
A46: （４）消耗品費に係る領収書又はその写し（該当する場合に限る）
A47: （５）使用料領収済証又はその写し（該当する場合に限る）
A48: （６）その他、市長が必要と認める書類

Sheet (別紙1－1)年間活動実績報告_謝金・研修受講料
B2: 【別紙1－1】 令和８年度 年間活動実績報告 | M2: 申請月 | O2: =+'(別紙1－1)年間活動計画'!O2 -> 9月
B3: ★黄色のセルに入力してください
B4: 団体名 | D4: =+申請書!R8 -> 0 | O4: =IF(SUMPRODUCT(--(LEN(TRIM(SUBSTITUTE(D4," ","")))=0))>0,"未入力があります","")
B5: 種目 | D5: =+'(別紙1－1)年間活動計画'!D5 -> 0 | O5: =IF(SUMPRODUCT(--(LEN(TRIM(SUBSTITUTE(D5," ","")))=0))>0,"未入力があります","")
B6: 活動曜日・時間 | D6: =+'(別紙1－1)年間活動計画'!D6 -> 0 | O6: =IF(SUMPRODUCT(--(LEN(TRIM(SUBSTITUTE(D6," ","")))=0))>0,"未入力があります","")
B7: 【団体情報】 | C7: ※申請された月からの実働日数(9月～2月は予定日数)を記載してください
C8: =IF(C$10=$O$2,"●","") | D8: =IF(D$10=$O$2,"●","") | E8: =IF(E$10=$O$2,"●","") | F8: =IF(F$10=$O$2,"●","") | G8: =IF(G$10=$O$2,"●","") | H8: =IF(H$10=$O$2,"●","") -> ● | I8: =IF(I$10=$O$2,"●","") | J8: =IF(J$10=$O$2,"●","") | ... N8: =IF(N$10=$O$2,"●","")
C9: =IF(C$8="",IF(B$9="","","●"),"●") | D9: =IF(D$8="",IF(C$9="","","●"),"●") | E9: =IF(E$8="",IF(D$9="","","●"),"●") | F9: =IF(F$8="",IF(E$9="","","●"),"●") | G9: =IF(G$8="",IF(F$9="","","●"),"●") | H9: =IF(H$8="",IF(G$9="","","●"),"●") -> ● | I9: =IF(I$8="",IF(H$9="","","●"),"●") -> ● | J9: =IF(J$8="",IF(I$9="","","●"),"●") -> ● | ... N9: =IF(N$8="",IF(M$9="","","●"),"●") -> ●
B10: 月別活動実績 | C10: 4月 | D10: 5月 | E10: 6月 | F10: 7月 | G10: 8月 | H10: 9月 | I10: 10月 | J10: 11月 | K10: 12月 | L10: 1月 | M10: 2月 | O10: 合計 | P10: {=IF(SUMPRODUCT(--(LEN(TRIM(SUBSTITUTE(C11:M11," ","")))=0))>0,"活動日数に未入力があります","")} -> 活動日数に未入力があります
B11: 活動日数 | O11: =SUMIFS(C11:M11,C9:M9,"●") -> 0
C12: =IF(C$9="","0を入力","") -> 0を入力 | D12: =IF(D$9="","0を入力","") -> 0を入力 | E12: =IF(E$9="","0を入力","") -> 0を入力 | F12: =IF(F$9="","0を入力","") -> 0を入力 | G12: =IF(G$9="","0を入力","") -> 0を入力 | H12: =IF(H$9="","0を入力","") | I12: =IF(I$9="","0を入力","") | J12: =IF(J$9="","0を入力","") | ... L12: =IF(L$9="","0を入力","") | M12: =IF(M$9="","入力不可","") | N12: =IF(N$9="","入力不可","") | O12: (単位:円) | V12: 時間
C13: ※申請月を選んだ後に0を入力の文字が出た場合、活動日数に0を入力してください | M13: 補助上限額 | O13: =+S15 -> 0 | P13: =IF(OR(SUBSTITUTE(TRIM(H11)," ","")="",SUBSTITUTE(TRIM(I11)," ","")="",SUBSTITUTE(TRIM(J11)," ","")="",SUBSTITUTE(TRIM(K11)," ","")="",SUBSTITUTE(TRIM(L11)," ","")="",SUBSTITUTE(TRIM(M11)," ","")=""),"活動予定日数を入力してください","") -> 活動予定日数を入力してください | S13: =IF(O11>200,300000,IF(O11>150,300000,IF(O11>100,300000,IF(O11>50,200000,IF(O11>0,100000,0))))) -> 0 | V13: 回数
O14: (単位:人) | V14: 月額
B15: 【指導者情報】 | C15: ※申請された月からの実働日数(9月～2月は予定日数)を記載してください | M15: 指導者人数 (必ず入力) | O15: =+'(別紙1－1)年間活動計画'!O15 | S15: =IF(O15<1," ",IF(O15=1,S13/2,IF(O15>1,S13,0))) -> 0 | V15: 年額
O16: =IF(SUMPRODUCT(--(LEN(TRIM(SUBSTITUTE(O15," ","")))=0))>0,"指導者人数に未入力があります","") -> 指導者人数に未入力があります | V16: その他
B17: 指導者氏名 1 | C17: =+'(別紙1－1)年間活動計画'!C17 | G17: 謝金の支払形態 (時間・回数・月額・年額) | K17: 金額 (形態ごとの単価) | O17: =IF(OR(SUBSTITUTE(TRIM(C17)," ","")="",SUBSTITUTE(TRIM(I17)," ","")="",SUBSTITUTE(TRIM(M17)," ","")=""),"黄色セルに未入力があります","") -> 黄色セルに未入力があります
B18: 月別指導実績 | C18: 4月 | D18: 5月 | E18: 6月 | F18: 7月 | G18: 8月 | H18: 9月 | I18: 10月 | J18: 11月 | K18: 12月 | L18: 1月 | M18: 2月 | O18: 合計 | P18: {=IF(SUMPRODUCT((COLUMN(C19:M19)>=COLUMN(C19)+MATCH($O$2,C18:M18,0)-1)*(LEN(TRIM(SUBSTITUTE(C19:M19," ","")))=0))>0,"活動日数に未入力があります","")} -> 活動日数に未入力があります
B19: 活動日数 | O19: =SUM(C19:N19) -> 0
B20: 月別支払額 | O20: =SUM(C20:M20) -> 0 | P20: {=IF(SUMPRODUCT((COLUMN(C20:M20)>=COLUMN(C20)+MATCH($O$2,C18:M18,0)-1)*(LEN(TRIM(SUBSTITUTE(C20:M20," ","")))=0))>0,"月別支払額に未入力があります","")} -> 月別支払額に未入力があります
B21: 月別補助上限額 | C21: =+C19*1000 -> 0 | D21: =+D19*1000 -> 0 | E21: =+E19*1000 -> 0 | F21: =+F19*1000 -> 0 | G21: =+G19*1000 -> 0 | H21: =+H19*1000 -> 0 | I21: =+I19*1000 -> 0 | J21: =+J19*1000 -> 0 | ... M21: =+M19*1000 -> 0 | O21: =SUM(C21:M21) -> 0 | S21: 4月 | T21: 5月 | U21: 6月 | V21: 7月 | W21: 8月 | X21: 9月 | Y21: 10月 | Z21: 11月 | AA21: 12月 | AB21: 1月 | AC21: 2月 | AD21: 3月
B22: 月別補助額 | C22: =+S22 -> 0 | D22: =+T22 -> 0 | E22: =+U22 -> 0 | F22: =+V22 -> 0 | G22: =+W22 -> 0 | H22: =+X22 -> 0 | I22: =+Y22 -> 0 | J22: =+Z22 -> 0 | ... M22: =+AC22 -> 0 | O22: =SUM(C22:M22) -> 0 | S22: =IF(C20/2>C21,C21,C20/2) -> 0 | T22: =IF(D20/2>D21,D21,D20/2) -> 0 | U22: =IF(E20/2>E21,E21,E20/2) -> 0 | V22: =IF(F20/2>F21,F21,F20/2) -> 0 | W22: =IF(G20/2>G21,G21,G20/2) -> 0 | X22: =IF(H20/2>H21,H21,H20/2) -> 0 | Y22: =IF(I20/2>I21,I21,I20/2) -> 0 | Z22: =IF(J20/2>J21,J21,J20/2) -> 0 | ... AC22: =IF(M20/2>M21,M21,M20/2) -> 0
C23: =IF(C$9="","入力不可","") -> 入力不可 | D23: =IF(D$9="","入力不可","") -> 入力不可 | E23: =IF(E$9="","入力不可","") -> 入力不可 | F23: =IF(F$9="","入力不可","") -> 入力不可 | G23: =IF(G$9="","入力不可","") -> 入力不可 | H23: =IF(H$9="","入力不可","") | I23: =IF(I$9="","入力不可","") | J23: =IF(J$9="","入力不可","") | ... N23: =IF(N$9="","入力不可","")
B24: 指導者氏名 2 | C24: =+'(別紙1－1)年間活動計画'!C24 | G24: 謝金の支払形態 (時間・回数・月額・年額) | K24: 金額 (形態ごとの単価) | O24: =IF(OR(SUBSTITUTE(TRIM(C24)," ","")="",SUBSTITUTE(TRIM(I24)," ","")="",SUBSTITUTE(TRIM(M24)," ","")=""),"黄色セルに未入力があります","") -> 黄色セルに未入力があります
B25: 月別指導実績 | C25: 4月 | D25: 5月 | E25: 6月 | F25: 7月 | G25: 8月 | H25: 9月 | I25: 10月 | J25: 11月 | K25: 12月 | L25: 1月 | M25: 2月 | O25: 合計 | P25: {=IF(SUMPRODUCT((COLUMN(C26:M26)>=COLUMN(C26)+MATCH($O$2,C25:M25,0)-1)*(LEN(TRIM(SUBSTITUTE(C26:M26," ","")))=0))>0,"活動日数に未入力があります","")} -> 活動日数に未入力があります
B26: 活動日数 | O26: =SUM(C26:M26) -> 0
B27: 月別支払額 | O27: =SUM(C27:M27) -> 0 | P27: {=IF(SUMPRODUCT((COLUMN(C27:M27)>=COLUMN(C27)+MATCH($O$2,C25:M25,0)-1)*(LEN(TRIM(SUBSTITUTE(C27:M27," ","")))=0))>0,"月別支払額に未入力があります","")} -> 月別支払額に未入力があります
B28: 月別補助上限額 | C28: =+C26*1000 -> 0 | D28: =+D26*1000 -> 0 | E28: =+E26*1000 -> 0 | F28: =+F26*1000 -> 0 | G28: =+G26*1000 -> 0 | H28: =+H26*1000 -> 0 | I28: =+I26*1000 -> 0 | J28: =+J26*1000 -> 0 | ... M28: =+M26*1000 -> 0 | O28: =SUM(C28:M28) -> 0 | S28: 4月 | T28: 5月 | U28: 6月 | V28: 7月 | W28: 8月 | X28: 9月 | Y28: 10月 | Z28: 11月 | AA28: 12月 | AB28: 1月 | AC28: 2月 | AD28: 3月
B29: 月別補助額 | C29: =+S29 -> 0 | D29: =+T29 -> 0 | E29: =+U29 -> 0 | F29: =+V29 -> 0 | G29: =+W29 -> 0 | H29: =+X29 -> 0 | I29: =+Y29 -> 0 | J29: =+Z29 -> 0 | ... M29: =+AC29 -> 0 | O29: =SUM(C29:M29) -> 0 | S29: =IF(C27/2>C28,C28,C27/2) -> 0 | T29: =IF(D27/2>D28,D28,D27/2) -> 0 | U29: =IF(E27/2>E28,E28,E27/2) -> 0 | V29: =IF(F27/2>F28,F28,F27/2) -> 0 | W29: =IF(G27/2>G28,G28,G27/2) -> 0 | X29: =IF(H27/2>H28,H28,H27/2) -> 0 | Y29: =IF(I27/2>I28,I28,I27/2) -> 0 | Z29: =IF(J27/2>J28,J28,J27/2) -> 0 | ... AC29: =IF(M27/2>M28,M28,M27/2) -> 0
C30: =IF(C$9="","入力不可","") -> 入力不可 | D30: =IF(D$9="","入力不可","") -> 入力不可 | E30: =IF(E$9="","入力不可","") -> 入力不可 | F30: =IF(F$9="","入力不可","") -> 入力不可 | G30: =IF(G$9="","入力不可","") -> 入力不可 | H30: =IF(H$9="","入力不可","") | I30: =IF(I$9="","入力不可","") | J30: =IF(J$9="","入力不可","") | ... N30: =IF(N$9="","入力不可","")
B31: 指導者氏名 3 | C31: =+'(別紙1－1)年間活動計画'!C31 | G31: 謝金の支払形態 (時間・回数・月額・年額) | K31: 金額 (形態ごとの単価) | O31: =IF(OR(SUBSTITUTE(TRIM(C31)," ","")="",SUBSTITUTE(TRIM(I31)," ","")="",SUBSTITUTE(TRIM(M31)," ","")=""),"黄色セルに未入力があります","") -> 黄色セルに未入力があります
B32: 月別指導実績 | C32: 4月 | D32: 5月 | E32: 6月 | F32: 7月 | G32: 8月 | H32: 9月 | I32: 10月 | J32: 11月 | K32: 12月 | L32: 1月 | M32: 2月 | O32: 合計 | P32: {=IF(SUMPRODUCT((COLUMN(C33:M33)>=COLUMN(C33)+MATCH($O$2,C32:M32,0)-1)*(LEN(TRIM(SUBSTITUTE(C33:M33," ","")))=0))>0,"活動日数に未入力があります","")} -> 活動日数に未入力があります
B33: 活動日数 | O33: =SUM(C33:M33) -> 0
B34: 月別支払額 | O34: =SUM(C34:M34) -> 0 | P34: {=IF(SUMPRODUCT((COLUMN(C34:M34)>=COLUMN(C34)+MATCH($O$2,C32:M32,0)-1)*(LEN(TRIM(SUBSTITUTE(C34:M34," ","")))=0))>0,"月別支払額に未入力があります","")} -> 月別支払額に未入力があります
B35: 月別補助上限額 | C35: =+C33*1000 -> 0 | D35: =+D33*1000 -> 0 | E35: =+E33*1000 -> 0 | F35: =+F33*1000 -> 0 | G35: =+G33*1000 -> 0 | H35: =+H33*1000 -> 0 | I35: =+I33*1000 -> 0 | J35: =+J33*1000 -> 0 | ... M35: =+M33*1000 -> 0 | O35: =SUM(C35:M35) -> 0 | S35: 4月 | T35: 5月 | U35: 6月 | V35: 7月 | W35: 8月 | X35: 9月 | Y35: 10月 | Z35: 11月 | AA35: 12月 | AB35: 1月 | AC35: 2月 | AD35: 3月
B36: 月別補助額 | C36: =+S36 -> 0 | D36: =+T36 -> 0 | E36: =+U36 -> 0 | F36: =+V36 -> 0 | G36: =+W36 -> 0 | H36: =+X36 -> 0 | I36: =+Y36 -> 0 | J36: =+Z36 -> 0 | ... M36: =+AC36 -> 0 | O36: =SUM(C36:M36) -> 0 | S36: =IF(C34/2>C35,C35,C34/2) -> 0 | T36: =IF(D34/2>D35,D35,D34/2) -> 0 | U36: =IF(E34/2>E35,E35,E34/2) -> 0 | V36: =IF(F34/2>F35,F35,F34/2) -> 0 | W36: =IF(G34/2>G35,G35,G34/2) -> 0 | X36: =IF(H34/2>H35,H35,H34/2) -> 0 | Y36: =IF(I34/2>I35,I35,I34/2) -> 0 | Z36: =IF(J34/2>J35,J35,J34/2) -> 0 | ... AC36: =IF(M34/2>M35,M35,M34/2) -> 0
C37: =IF(C$9="","入力不可","") -> 入力不可 | D37: =IF(D$9="","入力不可","") -> 入力不可 | E37: =IF(E$9="","入力不可","") -> 入力不可 | F37: =IF(F$9="","入力不可","") -> 入力不可 | G37: =IF(G$9="","入力不可","") -> 入力不可 | H37: =IF(H$9="","入力不可","") | I37: =IF(I$9="","入力不可","") | J37: =IF(J$9="","入力不可","") | ... N37: =IF(N$9="","入力不可","")
B38: 指導者氏名 4 | C38: =+'(別紙1－1)年間活動計画'!C38 | G38: 謝金の支払形態 (時間・回数・月額・年額) | K38: 金額 (形態ごとの単価) | O38: =IF(OR(SUBSTITUTE(TRIM(C38)," ","")="",SUBSTITUTE(TRIM(I38)," ","")="",SUBSTITUTE(TRIM(M38)," ","")=""),"黄色セルに未入力があります","") -> 黄色セルに未入力があります
B39: 月別指導実績 | C39: 4月 | D39: 5月 | E39: 6月 | F39: 7月 | G39: 8月 | H39: 9月 | I39: 10月 | J39: 11月 | K39: 12月 | L39: 1月 | M39: 2月 | O39: 合計 | P39: {=IF(SUMPRODUCT((COLUMN(C40:M40)>=COLUMN(C40)+MATCH($O$2,C39:M39,0)-1)*(LEN(TRIM(SUBSTITUTE(C40:M40," ","")))=0))>0,"活動日数に未入力があります","")} -> 活動日数に未入力があります
B40: 活動日数 | O40: =SUM(C40:M40) -> 0
B41: 月別支払額 | O41: =SUM(C41:M41) -> 0 | P41: {=IF(SUMPRODUCT((COLUMN(C41:M41)>=COLUMN(C41)+MATCH($O$2,C39:M39,0)-1)*(LEN(TRIM(SUBSTITUTE(C41:M41," ","")))=0))>0,"月別支払額に未入力があります","")} -> 月別支払額に未入力があります
...

Sheet (別紙1－2)消耗品費
A2: 【別紙1－2】 令和８年度 消耗品購入実績 | I2: 申請月 | K2: =+'(別紙1－1)年間活動実績報告_謝金・研修受講料'!O2 -> 9月
A3: ★黄色のセルに入力してください
A4: 団体名 | C4: =IF(TRIM(SUBSTITUTE(中間報告書!R8," ",""))="","中間報告書のシートに団体名を入力してください",中間報告書!R8) -> 0
A6: 購入した消耗品は、１品30,000円未満（税込）、かつ、地域クラブの共用の物品であり、
A7: 個人に帰属するものではありません。
A8: ※領収書があるものを記載、ただし、中間報告の時は、9月～2月は購入予定を記載してください | K8: （単位：円、税込）
H9: ※消費税課税団体のみ税抜き金額を記載してください
A10: NO | B10: 購入月 | C10: 品名 | H10: 金額 (支払額) | J10: 補助金実績額
A11: 1 | J11: =IFERROR(IF(TRIM(SUBSTITUTE(H11," ",""))="","",ROUNDDOWN(H11/2,0)),"")
A12: 2 | J12: =IFERROR(IF(TRIM(SUBSTITUTE(H12," ",""))="","",ROUNDDOWN(H12/2,0)),"")
A13: 3 | J13: =IFERROR(IF(TRIM(SUBSTITUTE(H13," ",""))="","",ROUNDDOWN(H13/2,0)),"")
A14: 4 | J14: =IFERROR(IF(TRIM(SUBSTITUTE(H14," ",""))="","",ROUNDDOWN(H14/2,0)),"")
A15: 5 | J15: =IFERROR(IF(TRIM(SUBSTITUTE(H15," ",""))="","",ROUNDDOWN(H15/2,0)),"")
A16: 6 | J16: =IFERROR(IF(TRIM(SUBSTITUTE(H16," ",""))="","",ROUNDDOWN(H16/2,0)),"")
A17: 7 | J17: =IFERROR(IF(TRIM(SUBSTITUTE(H17," ",""))="","",ROUNDDOWN(H17/2,0)),"")
A18: 8 | J18: =IFERROR(IF(TRIM(SUBSTITUTE(H18," ",""))="","",ROUNDDOWN(H18/2,0)),"")
A19: 9 | J19: =IFERROR(IF(TRIM(SUBSTITUTE(H19," ",""))="","",ROUNDDOWN(H19/2,0)),"")
A20: 10 | J20: =IFERROR(IF(TRIM(SUBSTITUTE(H20," ",""))="","",ROUNDDOWN(H20/2,0)),"")
A21: 11 | J21: =IFERROR(IF(TRIM(SUBSTITUTE(H21," ",""))="","",ROUNDDOWN(H21/2,0)),"")
A22: 12 | J22: =IFERROR(IF(TRIM(SUBSTITUTE(H22," ",""))="","",ROUNDDOWN(H22/2,0)),"")
... A33: 23 | J33: =IFERROR(IF(TRIM(SUBSTITUTE(H33," ",""))="","",ROUNDDOWN(H33/2,0)),"")
A34: 24
A35: 25 | J35: =IFERROR(IF(TRIM(SUBSTITUTE(H35," ",""))="","",ROUNDDOWN(H35/2,0)),"")
A36: 26 | J36: =IFERROR(IF(TRIM(SUBSTITUTE(H36," ",""))="","",ROUNDDOWN(H36/2,0)),"")
A37: 27 | J37: =IFERROR(IF(TRIM(SUBSTITUTE(H37," ",""))="","",ROUNDDOWN(H37/2,0)),"")
A38: 28 | J38: =IFERROR(IF(TRIM(SUBSTITUTE(H38," ",""))="","",ROUNDDOWN(H38/2,0)),"")
A39: 29 | J39: =IFERROR(IF(TRIM(SUBSTITUTE(H39," ",""))="","",ROUNDDOWN(H39/2,0)),"")
A40: 30 | J40: =IFERROR(IF(TRIM(SUBSTITUTE(H40," ",""))="","",ROUNDDOWN(H40/2,0)),"")
A41: 合計 | H41: =SUM(H11:I40) -> 0 | J41: =SUM(J11:K40) -> 0
A43: 【留意事項】 | K43: (単位:円)
A44: 1 交付決定以前に購入したものは補助対象外です。 | H44: 補助金実績額 | K44: =+J41 -> 0 | N44: =IF(J41>100000,100000,J41) -> 0
A45: 2 金額は領収書の消耗品の金額（税込）と一致させてください。（※送料等が領収書に含まれている場合は、その分を除くこと）
A46: 3 交付決定を受けていない場合は、入力しないでください。

Sheet (別紙3)収支実績(自動入力)
A1: 令和８年度 収支実績
A3: 【団体名】 | B3: =IF(TRIM(SUBSTITUTE(中間報告書!R8," ",""))="","中間報告書のシートに団体名を入力してください",中間報告書!R8) -> 0
A5: １ 収入の部
A6: 費目 | B6: 予算額 | C6: 付記
A7: 会費 | B7: =+'(別紙4)収支明細書'!B23 -> 0
A8: 補助金 | B8: =+'(別紙4)収支明細書'!C23 -> 0 | C8: 千円未満切捨て
A9: 繰越金・その他 | B9: =+'(別紙4)収支明細書'!D23 -> 0
A10: 収入 合計 | B10: =SUM(B7:B9) -> 0
A12: ２ 支出の部
A13: 費目 | B13: 予算額 | C13: 付記
A14: 【補助対象経費】
A15: 指導者謝金 | B15: =+'(別紙4)収支明細書'!E23 -> 0 | C15: 申請月以降の指導者謝金
A16: 研修受講料 | B16: ='(別紙4)収支明細書'!F23 -> 0 | C16: 申請月以降の実際に支払う額
A17: 消耗品費 | B17: ='(別紙4)収支明細書'!G23 -> 0 | C17: 申請月以降の実際に支払う額
A18: 小計 | B18: =SUM(B15:B17) -> 0
A19: 【補助対象外経費】
A20: 指導者謝金 | B20: =+'(別紙4)収支明細書'!H23 -> 0 | C20: 申請月より前に支払った指導者謝金
A21: その他 | B21: =+'(別紙4)収支明細書'!I23 -> 0
A22: 小計 | B22: =SUM(B20:B21) -> 0
A23: 支出 合計 | B23: =+B22+B18 -> 0
A25: ※(別紙4)収支明細書を作成すると自動で完成するので、 入力は不要です。

Sheet (別紙4)収支明細書
A4: 令和８年度 補助事業費収支明細書 | I4: 申請月 | J4: =+'(別紙1－2)消耗品費'!K2 -> 9月
A5: ★水色のセルに入力してください (中間報告の際、9月～11月は実績、12月～2月は予定で記載してください)
A7: 【団体名】 | C7: =IF(TRIM(SUBSTITUTE(中間報告書!R8," ",""))="","中間報告書のシートに団体名を入力してください",中間報告書!R8) -> 0
J8: (単位:円)
A9: 月 | B9: 収入 | E9: 支出 | J9: 収支累計
B10: 会費 | C10: 補助金 | D10: 繰越金 その他 | E10: 補助対象経費 | H10: 補助対象外経費
E11: 指導者謝金 | F11: 研修受講料 | G11: 消耗品費 | H11: 指導者謝金 | I11: その他・繰越金 | L11: 収入 | M11: 支出
A12: ４月 | E12: =+'(別紙1－1)年間活動実績報告_謝金・研修受講料'!C102 -> 0 | J12: =+L12-M12 -> 0 | K12: =IF(J12="","",IF(J12<0,"収支累計がマイナスです。入力し直してください","")) | L12: =SUM(B12:D12) -> 0 | M12: =SUM(E12:I12) -> 0
A13: ５月 | E13: =+'(別紙1－1)年間活動実績報告_謝金・研修受講料'!D102 -> 0 | J13: =+J12+L13-M13 -> 0 | K13: =IF(J13="","",IF(J13<0,"収支累計がマイナスです。入力し直してください","")) | L13: =SUM(B13:D13) -> 0 | M13: =SUM(E13:I13) -> 0
A14: ６月 | E14: =+'(別紙1－1)年間活動実績報告_謝金・研修受講料'!E102 -> 0 | J14: =+J13+L14-M14 -> 0 | K14: =IF(J14="","",IF(J14<0,"収支累計がマイナスです。入力し直してください","")) | L14: =SUM(B14:D14) -> 0 | M14: =SUM(E14:I14) -> 0
A15: ７月 | E15: =+'(別紙1－1)年間活動実績報告_謝金・研修受講料'!F102 -> 0 | J15: =+J14+L15-M15 -> 0 | K15: =IF(J15="","",IF(J15<0,"収支累計がマイナスです。入力し直してください","")) | L15: =SUM(B15:D15) -> 0 | M15: =SUM(E15:I15) -> 0
A16: ８月 | E16: =+'(別紙1－1)年間活動実績報告_謝金・研修受講料'!G102 -> 0 | J16: =+J15+L16-M16 -> 0 | K16: =IF(J16="","",IF(J16<0,"収支累計がマイナスです。入力し直してください","")) | L16: =SUM(B16:D16) -> 0 | M16: =SUM(E16:I16) -> 0
A17: ９月 | E17: =+'(別紙1－1)年間活動実績報告_謝金・研修受講料'!H102 -> 0 | J17: =+J16+L17-M17 -> 0 | K17: =IF(J17="","",IF(J17<0,"収支累計がマイナスです。入力し直してください","")) | L17: =SUM(B17:D17) -> 0 | M17: =SUM(E17:I17) -> 0
A18: １０月 | E18: =+'(別紙1－1)年間活動実績報告_謝金・研修受講料'!I102 -> 0 | J18: =+J17+L18-M18 -> 0 | K18: =IF(J18="","",IF(J18<0,"収支累計がマイナスです。入力し直してください","")) | L18: =SUM(B18:D18) -> 0 | M18: =SUM(E18:I18) -> 0
A19: １１月 | E19: =+'(別紙1－1)年間活動実績報告_謝金・研修受講料'!J102 -> 0 | J19: =+J18+L19-M19 -> 0 | K19: =IF(J19="","",IF(J19<0,"収支累計がマイナスです。入力し直してください","")) | L19: =SUM(B19:D19) -> 0 | M19: =SUM(E19:I19) -> 0
A20: １２月 | E20: =+'(別紙1－1)年間活動実績報告_謝金・研修受講料'!K102 -> 0 | J20: =+J19+L20-M20 -> 0 | K20: =IF(J20="","",IF(J20<0,"収支累計がマイナスです。入力し直してください","")) | L20: =SUM(B20:D20) -> 0 | M20: =SUM(E20:I20) -> 0
A21: １月 | E21: =+'(別紙1－1)年間活動実績報告_謝金・研修受講料'!L102 -> 0 | J21: =+J20+L21-M21 -> 0 | K21: =IF(J21="","",IF(J21<0,"収支累計がマイナスです。入力し直してください","")) | L21: =SUM(B21:D21) -> 0 | M21: =SUM(E21:I21) -> 0
A22: ２月 | C22: =IF(OR('(別紙1－1)年間活動実績報告_謝金・研修受講料'!H113="",'(別紙1－1)年間活動実績報告_謝金・研修受講料'!H113=0),"",-'(別紙1－1)年間活動実績報告_謝金・研修受講料'!H113) | E22: =+'(別紙1－1)年間活動実績報告_謝金・研修受講料'!M102 -> 0 | J22: =+J21+L22-M22 -> 0 | K22: =IF(J22="","",IF(J22<0,"収支累計がマイナスです。入力し直してください","")) | L22: =SUM(B22:D22) -> 0 | M22: =SUM(E22:I22) -> 0
A23: 小計 | B23: =SUM(B12:B22) -> 0 | C23: =SUM(C12:C22) -> 0 | D23: =SUM(D12:D22) -> 0 | E23: =IF(SUM(E12:E22)='(別紙1－1)年間活動実績報告_謝金・研修受講料'!O102,SUM(E12:E22),"入力誤り") -> 0 | F23: =IF(SUM(F12:F22)='(別紙1－1)年間活動実績報告_謝金・研修受講料'!O105,SUM(F12:F22),"入力誤り") -> 0 | G23: =IF(SUM(G12:G22)='(別紙1－2)消耗品費'!H41,SUM(G12:G22),"入力誤り") -> 0 | H23: =SUM(H12:H22) -> 0 | I23: =SUM(I12:I22) -> 0 | J23: =+L23-M23 -> 0 | K23: =IF(J23="","",IF(J23<0,"収支累計がマイナスです。入力し直してください","")) | L23: =SUM(B23:D23) -> 0 | M23: =SUM(E23:I23) -> 0
A24: 合計 | B24: =SUM(B23:D23) -> 0 | E24: =SUM(E23:I23) -> 0 | J24: =+J23+L24-M24 -> 0
C25: =IF(B24=E24,"","⚠ 収支が一致していません。収入・支出それぞれの項目を確認してください。")
C26: {=_xlfn.LET(_xlpm.m,J4,_xlfn.SWITCH(_xlpm.m,"4月",IF(TRIM(C13)="","補助金は申請月の翌月に計上してください（5月欄に入力してください）",""),"5月",IF(TRIM(C14)="","補助金は申請月の翌月に計上してください（6月欄に入力してください）",""),"6月",IF(TRIM(C15)="","補助金は申請月の翌月に計上してください（7月欄に入力してください）",""),"7月",IF(TRIM(C16)="","補助金は申請月の翌月に計上してください（8月欄に入力してください）",""),"8月",IF(TRIM(C17)="","補助金は申請月の翌月に計上してください（9月欄に入力してください）",""),"9月",IF(TRIM(C18)="","補助金は申請月の翌月に計上してください（10月欄に入力してください）",""),"10月",IF(TRIM(C19)="","補助金は申請月の翌月に計上してください（11月欄に入力してください）",""),"11月",IF(TRIM(C20)="","補助金は申請月の翌月に計上してください（12月欄に入力してください）",""),"12月",IF(TRIM(C21)="","補助金は申請月の翌月に計上してください（1月欄に入力してください）",""),"1月",IF(TRIM(C22)="","補助金は申請月の翌月に計上してください（2月欄に入力してください）",""),""))} -> 補助金は申請月の翌月に計上してください（10月欄に入力してください）
B27: 【留意事項】
B28: 1. 収入と支出の合計は一致させてください
B29: 2. 補助金は概算払いの申請の翌月に計上してください (例:4月に概算払いの申請をした場合は5月に計上)
B30: 3.申請より前の月に支払った指導者謝金は、「補助対象外経費」の指導者謝金に計上してください
B31: 4.補助対象経費（謝金、研修受講料、消耗品費等）の領収書は、5年間保管してください。
B32: 5.補助対象経費（謝金、研修受講料、消耗品費等）の領収書は、5年間保管してください。

Sheet チェックシート(中間)
B1: 中間報告用 | D1: セルの下側に出てくる▼マークをクリックすると✓マークが出てきますので、選択してください。
B2: 【団体名】 | C2: =IF(TRIM(SUBSTITUTE(中間報告書!R8," ",""))="","中間報告書のシートに団体名を入力してください",中間報告書!R8) -> 0 | F2: №
F3: ※推進室確認欄
B4: チェック項目 (OKならば団体確認欄のチェックマーク✓を選択してください) | E4: 団体 確認欄 | F4: 推進室① | G4: 推進室②
B5: 中間報告書
B6: 補助金交付決定年月日と文書番号は正しいか
B7: 赤字のエラーメッセージは出ていないか
B8: 申請時と代表者が変わっている場合、新代表の情報になっているか (代表が変更した場合、団体リスト変更申請書を提出してください)
B9: 別紙1-1年間活動実績報告 謝金・研修受講料
B10: 研修受講料を入力したか (補助金申請をしていて、かつ、実績があった場合のみ)
B11: 赤字のエラーメッセージは出ていないか
B12: 指導者謝金の領収書は添付したか
B13: 研修費の領収書は主催団体への支払いと団体から指導者へのものを2種類添付したか
B14: 別紙1-2消耗品費
B15: 購入月(購入予定月)・品名・金額を入力したか
B16: 消耗品費の番号と一致する領収書を添付したか
... B19: 赤字のエラーメッセージは出ていないか
E23: ✔

Sheet 【2月】実績報告
A1: 別記様式第６号（第８条関係）
S2: 令和 年 月 日 | T2: 9 | U2: 年 | V2: 2 | W2: 月 | X2: 28 | Y2: 日
A4: （宛先）新潟市長
N6: 申請者住所 〒 | R6: =中間報告書!R6 -> 0
P7: 新潟市 | R7: =+中間報告書!R7 -> 0
N8: 団体名 | R8: =+中間報告書!R8 -> 0
N9: 代表者氏名 | R9: =+中間報告書!R9 -> 0
N10: 代表者電話番号 | R10: =+中間報告書!R10 -> 0
H12: 新潟市中学生のための地域クラブ活動支援事業
H13: 補助事業実績報告書
A17: 令和8年 | C17: =+中間報告書!C17 | D17: 月 | E17: =+中間報告書!E17 | F17: 日 | G17: 付け | H17: 新教支第 | J17: =+中間報告書!J17 | L17: 号の2で補助金の交付決定があった事業が完了したので、
A18: 次のとおり報告します。
L20: 記
A23: １ 補助事業の名称 令和８年度 新潟市中学生のための地域クラブ活動支援事業
A26: ２ 交付決定額及びその精算額
A28: 交付決定額 | I28: =+中間報告書!I28 -> 0 | M28: 円
A30: 精算額 円 | I30: =+'(別紙1－1)年間活動実績報告_謝金・研修受講料'!H113 -> 0 | M30: 円
A32: ３ 補助事業完了年月日 令和9年2月28日 | I32: 令和 | J32: 9 | K32: 年 | L32: 2 | M32: 月 | N32: 28 | O32: 日
A34: ４ 補助事業の成果 | I34: =+中間報告書!I35 -> 補助事業により、会費を低廉な価格で抑えられ、必要な物品も購入でき、安定的な団体運営に繋がった。
I35: =+中間報告書!I36
A36: ５ 補助事業の精算に係る収支明細 | I36: 別紙1-1、1-2および別紙4のとおり
A38: ６ 情報の公表の状況 | I38: =+中間報告書!I39 -> 「新潟市中学生のための地域クラブ活動支援事業補助金」を受けていることを会員募集時、会報、大会パンフレット、各種チラシ、SNS等で随時周知。
A40: ７ 添付書類
A41: （１）年間活動実績報告（収支決算を含む）
A42: （２）指導者謝金に係る領収書又はその写し（該当する場合に限る）
A43: （３）指導者研修受講料に係る領収書（団体が指導者に支払った研修費用及び研修主催者へ支払った受講料にかかるもの）
B44: 又はその写し(該当する場合に限る)
A45: （４）消耗品費に係る領収書又はその写し（該当する場合に限る）
A46: （５）使用料領収済証又はその写し（該当する場合に限る）
A47: （６）その他、市長が必要と認める書類

Sheet 【2月】チェックシート(実績)
B1: 実績報告用
B2: 【団体名】 | C2: =IF(TRIM(SUBSTITUTE(中間報告書!R8," ",""))="","中間報告書のシートに団体名を入力してください",中間報告書!R8) -> 0 | F2: №
F3: ※推進室確認欄
B4: チェック項目 (該当する設問がOKならばチェックマーク✓を選択してください) | E4: 団体 確認欄 | F4: 推進室① | G4: 推進室②
B5: 実績報告書
B6: 赤字のエラーメッセージは出ていないか
B7: 中間報告時と代表者が変わっている場合、新代表の情報になっているか (代表が変更した場合、団体リスト変更申請書を提出してください)
B8: 補助事業の成果や情報の公表など、中間報告の際から変更あった場合、修正したか
B9: 別紙1-1年間活動実績報告 謝金・研修受講料
B10: 研修受講料を入力したか (補助金申請をしていて、かつ、実績があった場合のみ)
B11: 赤字のエラーメッセージは出ていないか
B12: 指導者謝金の領収書は添付したか
B13: 研修費の領収書は主催団体への支払いと団体から指導者へのものを2種類添付したか
B14: 別紙1-2消耗品費
B15: 購入月・品名・金額を入力したか
B16: 消耗品費の番号と一致する領収書を添付したか
... B19: 赤字のエラーメッセージは出ていないか
E23: ✔

Sheet 補助金確定通知書
A1: 別記様式第7号（第9条関係）
S2: 新教支第 | W2: 号 | X2: の | Y2: 2
S3: 令和 年 月 日 | T3: 9 | U3: 年 | W3: 月 | Y3: 日
B5: =+【2月】実績報告!R8 -> 0
B6: 代表 | D6: =+【2月】実績報告!R9 -> 0 | H6: 様
S7: 新潟市長 中原 八一
H14: 補助金確定通知書
A18: 令和 | C18: =+【2月】実績報告!T2 -> 9 | D18: 年 | E18: =+【2月】実績報告!V2 -> 2 | F18: 月 | G18: =+【2月】実績報告!X2 -> 28 | H18: 日 | I18: 付けで実績報告のあった令和8年度新潟市中学生のための地域クラブ活動支援事業に
A19: ついて、次のとおり確定したので通知します。
L21: 記
A24: １ 交付決定額 | M24: =+【2月】実績報告!I28 -> 0 | P24: 円
A26: ２ 交付済額 | M26: =+M24 -> 0 | P26: 円
A28: ３ 確定額 | M28: =+M26-M30 -> 0 | P28: 円
A30: ４ 精算額 | M30: =+【2月】実績報告!I30 -> 0 | P30: 円
