Workbook
Name _Hlk257131054: '(添付３)麦・大豆'!#REF!
Name _Hlk257131054: '(添付５)地域内流通'!$C$19
Name OLE_LINK1: '(添付３)麦・大豆'!$C$5
Name OLE_LINK1: '(添付５)地域内流通'!#REF!
Name 管轄局: [1]Sheet1!$B$3:$B$11
Name 政策目的: [1]Sheet1!$G$3:$G$5

Sheet シート一覧
B1: 様式シート一覧
B2: ※クリックすると、各シートに移動できます。 | D2: （参考）
B3: ※様式以外の必要書類については、「交付要綱別表」をご覧ください。 | D3: 要望時必要書類
B4: 様式名 | D4: 機械・施設整備（ハード） | E4: 取組推進支援（ソフト）※ | G4: ※
B5: 機械・施設整備（ハード）の審査項目確認書（米対策支援用（麦・大豆を含む）） | D5: ○ | G5: 果樹産地生産振興支援
B6: 機械・施設整備（ハード）の審査項目確認書（園芸等対策支援用） | D6: ○ | G6: 省エネルギー対策支援
B7: 様式第１号 交付申請書 | G7: 施設承継支援
B8: 様式第２号 変更申請書 | G8: 鳥獣被害防止対策支援
B9: 様式第３号 実績報告書
B10: 様式第４号 交付申請書及び実績報告書
B11: 様式第５号 地域特産作物の承認について（申請）
B12: 共通添付資料１ 共通計画書・実績書 【要望時はこちらを要望書としてご使用ください】 | D12: ○ | E12: ○
B13: 参考様式 (共通添付資料1共通計画書 添付資料)成果目標一覧表（計画・実績）（団体用） | D13: △
B14: 共通添付資料２ 農業機械における補助対象事業費積算内訳書 | D14: ○
B15: 共通添付資料３ 導入機械能力算出基礎表 | D15: ○
B16: 別紙 機械・施設等の整備状況 | D16: ○
B17: 個別様式１号 果樹産地生産振興支援 実施計画（実績）一覧表 | E17: △
B18: 個別様式２号 省エネルギー型被覆資材等導入支援 実施 計画・実績（外・内・修）一覧表 | E18: △
B19: 個別様式3号 省エネに向けた取り組み確認シート
B20: 添付資料１ 実需者との結び付き実績書
B21: 添付資料２ 新市場開拓用米取組拡大支援実績書
B22: 添付資料３ 地域内流通に向けた麦・大豆いいものづくり支援実績書
B23: 添付資料4-1 いいもづくりに向けた生産活動規範点検シート（大豆の生産）
B24: 添付資料4-2 いいもづくりに向けた生産活動規範点検シート（大麦・小麦の生産）
B25: 添付資料5 地域内流通実践支援実績書
B26: 添付資料6 地域特産作物実績書
B27: 添付資料7 園芸産地強化支援 産地活性化計画（計画書・実績報告書）
B28: 添付資料８－１ 暴力団等の排除に関する誓約書兼同意書（個人用） | D28: △ | E28: △
B29: 添付資料８－２ 暴力団等の排除に関する誓約書兼同意書（団体・法人用） | D29: △ | E29: △
B30: 添付資料８－３ 暴力団等の排除に関する誓約書兼同意書（JA用） | D30: △ | E30: △
B31: 参考様式 前倒し申請における理由書 | D31: △
B32: 参考様式 (任意団体申請 認定農業者を除く構成員用) 農業経営状況書 | D32: △ | E32: △
D33: ○：必須 △：場合により必要
D34: ※この他に、見積書（1社）と導入する機械や施設、資材のパンフレットが必要です。

Sheet 審査項目(米)
B3: 米対策支援用 （麦・大豆を含む）
B4: 「元気な農業応援事業」機械・施設整備（ハード）の審査項目確認書
B5: ○機械・施設整備（ハード）事業の審査基準 ・「審査項目確認書」により全ての対象者を一律に審査します。 ・予算の範囲内において、点数等を踏まえて採択します。
B6: 【記入方法】 ①必須項目に該当するかチェックしてください。 【必須項目】全てにチェックが付かないと、要望をあげることはできません。 ②一般項目に該当するものをチェックしてください。必要に応じて内容の確認できる書類を提出してください。 合計が1点以上でないと、要望をあげることはできません。
B8: 【必須項目】
C9: 項目 | E9: 内容 | H9: チェック欄 | I9: 備 考
B10: 必須１ | C10: 担い手 | E10: 地域計画に位置付けられている者（見込者を含む）である
B11: 必須２ | C11: 達成状況報告提出 | E11: 元気な農業応援事業の助成を受けた実績がある場合、達成状況報告書を全て提出している | I11: ※助成を受けた実績がない場合 もチェックしてください。
B13: 【一般項目】
C14: ※要望時点 春夏作業：3月1日時点 秋冬作業：6月1日時点
C15: 項目 | E15: 内容 | H15: チェック欄 | I15: 備 考
B16: 1 | C16: 経営規模 （水稲+麦・大豆+園芸） | E16: ４ha以上の経営規模である | F16: 現状で5ha以上の経営規模である | I16: 利用権設定等で確認ができる農地 要望時点で農業委員会の台帳で確認できる面積
B17: 2 | C17: 経営規模の拡大 （水稲+麦・大豆+園芸） | E17: 要望年に４0a以上の規模拡大をすることが確実である | I17: 農業委員会へ手続申出済みであること
B18: 3 | C18: 水稲作付状況の把握 | E18: 水稲生産実施計画書兼営農計画書を提出している | I18: 要望時点で提出済みであること
B19: 4 | C19: リスク分散 | E19: 早生・中生・晩生の複数品種を作付を実施又は予定している | I19: 種子の購入伝票や出荷契約、生産履歴などの複数品種を作付けているとわかる書類で確認
B20: 5 | C20: 販売契約 | E20: 播種前契約、事前契約のいずれかを行う又は予定している | I20: 方針作成者などとの契約書等で確認
B21: 6 | C21: 作業効率化 | E21: 作業日誌又は圃場管理を、表計算ソフトや専用アプリ等の電子データで管理している | I21: 表計算ソフト等の場合、印刷したもので確認 専用アプリの場合、本人のアカウントであることがわかる画面を印刷したもので確認
B22: 7 | C22: 収入減少・ 災害の備え | E22: 補助金を申請する品目に対して、収入保険やナラシ（収入減少影響緩和交付金）、農業共済等の保険に加入又は予定している | I22: 加入状況がわかる書類で確認
B23: 8 | C23: 税申告 | E23: 青色申告を行っている又は行う見込みである | I23: 昨年度の申告書、見込者は青色申告承認申請書で確認
B24: 9 | C24: GAP認証 | E24: GAP（農業生産工程管理・ジャパン、アジア、グローバルなど）認証を取得更新している | I24: 要望時点でGAP認証を証明できる書類
B25: 10 | C25: 地域集積 | E25: 地域集積協力金又は集約化奨励金（国事業）を受けたことがある 又は、取り組んでいる地域の構成員である
C26: 点数 | H26: /9 | I26: ※必須項目は除く
C27: ※要望書類により事実と違うと判断された場合は、該当箇所を修正します。
B28: 【担当者確認欄】
C29: 項目 | E29: 内容 | H29: チェック欄 | I29: 備 考
B30: 確認１ | C30: 達成状況報告未達成 | E30: 前年の達成状況報告において、目標未達成であった | I30: 令和３、４年度元気な農業応援事業の達成状況報告で未達成
B31: 確認２ | C31: 前倒し申請 | E31: 受注生産などのやむを得ない理由のため、導入時期の募集よりも前の期間に申請する

Sheet 審査項目(園芸)
B3: 園芸等対策支援用
B4: 「元気な農業応援事業」機械・施設整備（ハード）の審査項目確認書
B5: ○機械・施設整備（ハード）事業の審査基準 ・「審査項目確認書」により全ての対象者を一律に審査します。 ・予算の範囲内において、点数等を踏まえて採択します。
B6: 【記入方法】 ①必須項目に該当するかチェックしてください。 【必須項目】全てにチェックが付かないと、要望をあげることはできません。 ②一般項目に該当するものをチェックしてください。必要に応じて内容の確認できる書類を提出してください。 合計が1点以上でないと、要望をあげることはできません。
B8: 【必須項目】
C9: 項目 | E9: 内容 | H9: チェック欄 | I9: 備 考
B10: 必須１ | C10: 担い手 | E10: 地域計画に位置付けられている者（見込者を含む）である
B11: 必須２ | C11: 達成状況報告提出 | E11: 元気な農業応援事業の助成を受けた実績がある場合、達成状況報告書を全て提出している | I11: ※助成を受けた実績がない場合 もチェックしてください
B13: 【一般項目】
C14: ※要望時点 春夏作業：3月1日時点 秋冬作業：6月1日時点
C15: 項目 | E15: 内容 | H15: チェック欄 | I15: 備 考
B16: 1 | C16: 経営規模 （水稲+麦・大豆+園芸） | E16: ４ha以上の経営規模である ※ただし、園芸のみの場合：1ha以上、施設園芸・果樹のみの場合：0.5ha以上 | F16: 現状で5ha以上の経営規模である | I16: 利用権設定等で確認ができる農地 要望時点で農業委員会の台帳で確認できる面積
B17: 2 | C17: 経営規模の拡大 （水稲+麦・大豆+園芸） | E17: 要望年に４0a以上の規模拡大をすることが確実である ※ただし、園芸のみの場合：10a以上、施設園芸・果樹のみの場合：5a以上 | I17: 農業委員会へ手続申出済みであること
B18: 3 | C18: 作業効率化 | E18: 作業日誌又は圃場管理を、表計算ソフトや専用アプリ等の電子データで管理している | I18: 表計算ソフト等の場合、印刷したもので確認 専用アプリの場合、本人のアカウントであることがわかる画面を印刷したもので確認
B19: 4 | C19: 収入減少・ 災害の備え | E19: 補助金を申請する品目に対して、収入保険や農業共済等の保険に加入又は予定している | I19: 加入状況がわかる書類で確認
B20: 5 | C20: 税申告 | E20: 青色申告を行っている又は行う見込みである | I20: 昨年度の申告書、見込者は青色申告承認申請書で確認
B21: 6 | C21: GAP認証 | E21: GAP（農業生産工程管理・ジャパン、アジア、グローバルなど）認証を取得更新している | I21: 要望時点でGAP認証を証明できる書類
B22: 7 | C22: 地域集積 | E22: 地域集積協力金又は集約化奨励金（国事業）を受けたことがある 又は、取り組んでいる地域の構成員である
C23: 点数 | H23: /6 | I23: ※必須項目は除く
C24: ※要望書類により事実と違うと判断された場合は、該当箇所を修正します。
B25: 【担当者確認欄】
C26: 項目 | E26: 内容 | H26: チェック欄 | I26: 備 考
B27: 確認１ | C27: 達成状況報告未達成 | E27: 前年の達成状況報告において、目標未達成であった | I27: 令和３、４年度元気な農業応援事業の達成状況報告で未達成
B28: 確認２ | C28: 前倒し申請 | E28: 受注生産などのやむを得ない理由のため、導入時期の募集よりも前の期間に申請する

Sheet 交付申請書
B1: 様式第１号
U2: 年 月 日
B3: （宛先）新潟市長
L5: 申請者 | O5: 住所
O6: （法人、団体にあっては所在地）
O7: 氏名
O9: （法人、団体にあっては名称及び代表者の氏名）
B12: 補助金等交付申請書
AC13: （要綱別表に記載する「種目名」、「目的名」を記載すること。）
D14: 補助金の交付を受けたいので、次のとおり申請します。 | AC14: 機械施設等整備支援 1.米対策支援 (1)収益力向上支援
AC15: 機械施設等整備支援 1.米対策支援 (1)【法人特例】収益力向上支援
B16: 記 | AC16: 機械施設等整備支援 1.米対策支援 (1)【認新農特例】収益力向上支援
AC17: 機械施設等整備支援 1.米対策支援 (1)収益力向上支援（スマート農機導入）
C18: 1 | E18: 補助事業の名称 | AC18: 機械施設等整備支援 1.米対策支援 (1)【特例】収益力向上支援（スマート農機導入）
H19: 年度 新潟市元気な農業応援事業 | AC19: 機械施設等整備支援 2.園芸等対策支援 (2)収益力向上支援
G20: 機械施設等整備支援 2.園芸等対策支援 (2)収益力向上支援 | AC20: 機械施設等整備支援 2.園芸等対策支援 (2)【法人特例】収益力向上支援
AC21: 機械施設等整備支援 2.園芸等対策支援 (2)【認新農特例】収益力向上支援
C22: 2 | E22: 補助事業の目的及び内容 | AC22: 機械施設等整備支援 2.園芸等対策支援 (2)収益力向上支援（スマート農機導入）
AC23: 機械施設等整備支援 2.園芸等対策支援 (2)【特例】収益力向上支援（スマート農機導入）
C24: 3 | E24: 補助対象経費 | AC24: 取組推進支援 1.園芸等対策支援 (1)果樹産地生産振興支援
AC25: 取組推進支援 1.園芸等対策支援 (2)省エネルギー対策支援-ア外張被覆
C26: 4 | E26: 交付申請額及びその算定方法 | AC26: 取組推進支援 1.園芸等対策支援 (2)省エネルギー対策支援-ア内張被覆
E27: （千円未満の端数が生じたときは、その端数を切り捨てること。） | AC27: 取組推進支援 1.園芸等対策支援 (2)省エネルギー対策支援-イ修繕資材
AC28: 取組推進支援 1.園芸等対策支援 (3)施設承継支援
C29: 5 | E29: 補助事業の着工（予定）年月日 | AC29: 取組推進支援 1.園芸等対策支援 (4)鳥獣被害防止対策支援
C31: 6 | E31: 補助事業の施工完了（予定）年月日
C33: 7 | E33: 補助事業の完了（予定）年月日
C35: 8 | E35: 情報の公表の内容、方法及び時期
AE36: ✔
C37: 9 | E37: 添付書類
F38: 要綱別表のとおり

Sheet 変更申請書
B1: 様式第２号
U2: 年 月 日
B3: （宛先）新潟市長
L5: 申請者 | O5: 住所 | Q5: =交付申請書!Q5 -> 0
O6: （法人、団体にあっては所在地）
O7: 氏名 | Q7: =交付申請書!Q7 -> 0
Q8: =交付申請書!Q8 -> 0
O9: （法人、団体にあっては名称及び代表者の氏名）
B12: 補助事業変更申請書
AC13: （要綱別表に記載する「種目名」、「目的名」を記載すること。）
D14: 年 月 日 | H14: 付け新 第 号で補助金の交付決定のあった事業について、次のとお | AC14: 機械施設等整備支援 1.米対策支援 (1)収益力向上支援
C15: り変更したいので、申請します。 | AC15: 機械施設等整備支援 1.米対策支援 (1)【法人特例】収益力向上支援
AC16: 機械施設等整備支援 1.米対策支援 (1)【認新農特例】収益力向上支援
B17: 記 | AC17: 機械施設等整備支援 1.米対策支援 (1)収益力向上支援（スマート農機導入）
AC18: 機械施設等整備支援 1.米対策支援 (1)【特例】収益力向上支援（スマート農機導入）
C19: 1 | E19: 補助事業の名称 | AC19: 機械施設等整備支援 2.園芸等対策支援 (2)収益力向上支援
H20: 年度 新潟市元気な農業応援事業 | AC20: 機械施設等整備支援 2.園芸等対策支援 (2)【法人特例】収益力向上支援
G21: =交付申請書!G20 -> 機械施設等整備支援 2.園芸等対策支援 (2)収益力向上支援 | AC21: 機械施設等整備支援 2.園芸等対策支援 (2)【認新農特例】収益力向上支援
AC22: 機械施設等整備支援 2.園芸等対策支援 (2)収益力向上支援（スマート農機導入）
C23: 2 | E23: 変更の内容 | AC23: 機械施設等整備支援 2.園芸等対策支援 (2)【特例】収益力向上支援（スマート農機導入）
F24: 変更前 | AC24: 取組推進支援 1.園芸等対策支援 (1)果樹産地生産振興支援
F25: 変更後 | AC25: 取組推進支援 1.園芸等対策支援 (2)省エネルギー対策支援-ア外張被覆
AC26: 取組推進支援 1.園芸等対策支援 (2)省エネルギー対策支援-ア内張被覆
C27: 3 | E27: 変更の理由 | AC27: 取組推進支援 1.園芸等対策支援 (2)省エネルギー対策支援-イ修繕資材
AC28: 取組推進支援 1.園芸等対策支援 (3)施設承継支援
AC29: 取組推進支援 1.園芸等対策支援 (4)鳥獣被害防止対策支援
C30: 4 | E30: 変更予定年月日
F31: 年 月 日

Sheet 実績報告書
B1: 様式第３号
U2: 年 月 日
B3: （宛先）新潟市長
L5: 申請者 | O5: 住所 | Q5: =交付申請書!Q5 -> 0
O6: （法人、団体にあっては所在地）
O7: 氏名 | Q7: =交付申請書!Q7 -> 0
Q8: =交付申請書!Q8 -> 0
O9: （法人、団体にあっては名称及び代表者の氏名）
B12: 補助事業実績報告書
D14: 年 月 日付け新 第 号で補助金の交付決定のあった事業が完了したので、
C15: 次のとおり報告します。
B17: 記
C19: 1 | E19: 補助事業の名称
H20: 年度 新潟市元気な農業応援事業
G21: =交付申請書!G20 -> 機械施設等整備支援 2.園芸等対策支援 (2)収益力向上支援
C23: 2 | E23: 交付決定額及びその算定方法
F24: 交付決定額
F25: 精 算 額
C27: 3 | E27: 補助事業の完了年月日
C30: 5 | E30: 補助事業の成果
C33: 6 | E33: 補助事業の精算に係る収支明細
F34: 別添「領収書（または請求書）の写し」のとおり
C36: 7 | E36: 情報の公表の状況
F37: =交付申請書!F36 -> 0
C39: 8 | E39: 添付書類
E40: 要綱別表のとおり

Sheet 交付申請書及び実績報告書
B1: 様式第４号
U2: 年 月 日
B3: （宛先）新潟市長
L5: 申請者 | O5: 住所 | Q5: =交付申請書!Q5 -> 0
O6: （法人、団体にあっては所在地）
O7: 氏名 | Q7: =交付申請書!Q5 -> 0
Q8: =交付申請書!Q8 -> 0
O9: （法人、団体にあっては名称及び代表者の氏名）
B12: 補助金交付申請書及び事業実績報告書
D14: 補助金の交付を受けたいので、次のとおり申請し、実績を報告します。
B16: 記
C18: 1 | E18: 補助事業の名称 | AC18: （要綱別表に記載する「種目名」、「目的名」を記載すること。）
H19: 年度 新潟市元気な農業応援事業 | AC19: 1.米対策支援米対策ソフト支援(1)加工用米地域内流通促進
G20: （要綱別表に記載する「種目名」、「目的名」を記載すること。） | AC20: 1.米対策支援米対策ソフト支援(2)米粉用米地域内流通促進
AC21: 1.米対策支援米対策ソフト支援(3)酒造好適米地域内流通促進
C22: 2 | E22: 補助事業の目的及び内容 | AC22: 1.米対策支援米対策ソフト支援(4)新市場開拓用米取組拡大支援
F23: （地域特産作物助成の場合は、助成対象となる作物名を記載すること。） | AC23: 2.園芸等対策支援穀物類ソフト支援(5)麦・大豆いいものづくり支援
AC24: 2.園芸等対策支援穀物類ソフト支援(6)麦・大豆地域内流通実践支援
AC25: 2.園芸等対策支援園芸等ソフト支援(7)地域特産作物助成
C26: 3 | E26: 補助対象経費
C30: 4 | E30: 交付申請額及びその算定方法
C33: 5 | E33: 情報の公表の内容、方法及び時期
C36: 6 | E36: 添付書類
E37: 要綱別表のとおり

Sheet 地域特産作物承認
B1: 様式第５号
U2: 年 月 日
B3: （宛先）新潟市長
L5: 申請者 | O5: 住所 | Q5: =交付申請書及び実績報告書!Q5 -> 0
O7: 氏名 | Q7: =交付申請書及び実績報告書!Q7 -> 0
Q8: =交付申請書及び実績報告書!Q8 -> 0
B11: 地域特産作物の承認について（申請）
D13: 新潟市元気な農業応援事業費補助金交付要綱第３の４に基づき、下記のとおり申請します。
B15: 記
C17: 1 | E17: 地区名及び地域特産作物名
D19: 地区名 | G19: 地域特産作物名

Sheet 共通計画書(共通1)
B1: 【要綱別表】（添付資料１）
B2: 年度 新潟市元気な農業応援事業共通計画書（実績書）
AE3: □
B4: 【米対策ハード】 | H4: □ | I4: 収益力向上支援 | AE4: ✔
B5: 【園芸対策ハード】 | H5: □ | I5: 収益力向上支援
B6: 【園芸対策ソフト】 | H6: □ | I6: 果樹産地生産振興支援 | O6: □ | P6: 施設承継支援 | U6: □ | V6: 省エネルギー対策支援
H7: □ | I7: 鳥獣被害防止対策支援
B8: ※物価高騰対応の申請可能な事業費の上限額の特例を適用する場合は、物価高騰前（令和２年頃）の価格も
B9: 記載すること。
B11: 事業主体名
B12: 所 在 地 | E12: =交付申請書!Q5 -> 0 | O12: 認定農業者 認定年月日
B13: 目的・必要性等 | C13: 【目的・必要性】
B18: 事業の概要 | C18: 事 業 内 容 | L18: 構造・規模・能力 | P18: 数量・単価 | S18: 事業費 | W18: 補助率 | Y18: 市補助金
S19: 円 | Y19: 円
S20: 高騰前：
S22: 円
S23: 高騰前：
S25: 円
S26: 高騰前：
B28: 施工箇所 ・設置場所 | P28: 計 | S28: 円 | Y28: 円
B30: 負担区分 | E30: 事業費 | K30: 市補助金 | Q30: 団体 | W30: その他
E31: 円 | K31: 円 | Q31: 円 | W31: 円
B35: 〇現在の経営状況と３年後の計画について
B36: 項目 | E36: 当該年産（ 年） | Q36: ３年後の計画（ 年）
B37: 品目名 | E37: 作付面積 | H37: 収入 | K37: 経費 | N37: 所得 | Q37: 作付面積 | T37: 収入 | W37: 経費 | Z37: 所得
E38: （ａ） | H38: （万円） | K38: （万円） | N38: （万円） | Q38: （ａ） | T38: （万円） | W38: （万円） | Z38: （万円）
N39: =H39-K39 -> 0 | Z39: =T39-W39 -> 0
N40: =H40-K40 -> 0 | Z40: =T40-W40 -> 0
N41: =H41-K41 -> 0 | Z41: =T41-W41 -> 0
N42: =H42-K42 -> 0 | Z42: =T42-W42 -> 0
N43: =H43-K43 -> 0 | Z43: =T43-W43 -> 0
B44: 合計 | E44: =SUM(E39:G43) -> 0 | H44: =SUM(H39:J43) -> 0 | K44: =SUM(K39:M43) -> 0 | N44: =SUM(N39:P43) -> 0 | Q44: =SUM(Q39:S43) -> 0 | T44: =SUM(T39:V43) -> 0 | W44: =SUM(W39:Y43) -> 0 | Z44: =SUM(Z39:AB43) -> 0
B45: ※申請者の経営全体の状況を記載すること。 ※「作付面積」欄を申請者の経営内容に変更して記載すること。
B48: 〇成果目標の設定
B49: 以下の成果目標項目一覧の８つの項目から、各メニューの目的や導入機械の能力に応じた項目を１つ選び、記載してください。ただし、「規模拡大」を目標とする場合は、２項目を設定してください。 ※省エネルギー対策支援は記載不要です。
B51: 成果目標項目① | R51: ※以下の成果目標項目一覧から選択
B52: 現状値 | R52: ※以下の成果目標項目一覧から単位を選択
B53: ３年後の目標値 | R53: ※以下の成果目標項目一覧から単位を選択
B54: 内容 | R54: ※必要に応じて作業内容や生産物名等の詳細を記載
B55: 確認資料 | G55: 営農計画書・確定申告書（写し）・検査伝票・作業日誌・その他（ ）
...

Sheet 成果目標一覧表(団体用）
A1: 参考様式：新潟市元気な農業支援事業共通添付1計画書添付資料
A3: 成果目標一覧表（計画・実績）（団体用）
E4: 団体名：
E5: 代表者名：
A7: 番号 | B7: 氏名 | C7: 成果目標項目 | D7: 現状値 | E7: 3年後の目標値 | F7: 確認資料 | G7: 3年後の現状値 | H7: 内容 | I7: 達成率
A8: 1
A9: 2
A10: 3
A11: 4
A12: 5
A13: 6
A14: 7
A15: 8
A16: 9
A17: 10
A18: ※元気な農業応援事業共通計画書（実績書）にある「成果目標項目一覧」の８つの項目から、各メニューの目的や導入機械の能力に応じた項目を１つ選び、記載すること。ただし、「規模拡大」を目標とする場合は、２項目設定すること。
A19: ※「内容」は、必要に応じて作業内容や生産物名等の詳細を記載すること。
A20: ※「確認資料」は、３年後目標達成を確認する際の資料を記載すること。
A21: ※３年後の目標値については、実現可能な目標値を記載すること。事業経過３年後に実施される達成状況報告において、目標未達成の場合、当該種目における活用が認められないことがある。

Sheet 事業費積算内訳(共通2)
B1: 【要綱別表】（添付資料２）
B3: 農業機械における補助対象事業費積算内訳書
L4: 事業主体名
H5: =IF(E11*F11=0, "", E11*F11) | L5: （リース借受者）
B6: 【農業機械導入計画】 | Q6: (単位：円)
B7: 導入 機械 | C7: メーカー・ 型式名 | E7: 数量 | F7: 見積価格 | J7: 上限補助金算定額 | Q7: 補助金算定上の 事業費 （③または⑥の いずれか低い額）
F8: 単価 | H8: 金額 | J8: メーカー希望小売価格 | N8: 一定率 | O8: 算定事業費
J9: 単価 | L9: 金額
E10: ① | F10: ② | H10: ③（=①*②） | J10: ②′ | L10: ④=（①*②′） | N10: ⑤ | O10: ⑥（=④*⑤）
H11: =IF(E11*F11=0, "", E11*F11) | L11: =IF(E11*J11=0,"",E11*J11) | O11: =IFERROR(L11*N11,"") | Q11: =IF(MIN(H11,O11)=0,"",MIN(H11,O11))
B12: 小 計 | H12: =H11 | L12: =L11 | O12: =O11 | Q12: =IF(MIN(H12,O12)=0,"",MIN(H12,O12))
H13: =IF(E13*F13=0,"",E13*F13) | L13: =IF(E13*J13=0,"",E13*J13) | O13: =IFERROR(L13*N13,"") | Q13: =IF(MIN(H13,O13)=0,"",MIN(H13,O13))
B14: 小 計 | H14: =H13 | L14: =L13 | O14: =O13 | Q14: =IF(MIN(H14,O14)=0,"",MIN(H14,O14))
H15: =IF(E15*F15=0,"",E15*F15) | L15: =IF(E15*J15=0,"",E15*J15) | O15: =IFERROR(L15*N15,"") | Q15: =IF(MIN(H15,O15)=0,"",MIN(H15,O15))
B16: 小 計 | H16: =H15 | L16: =L15 | O16: =O15 | Q16: =IF(MIN(H16,O16)=0,"",MIN(H16,O16))
C17: 見積額の計（③の合計 a） | H17: =SUM(H12,H14,H16) -> 0 | J17: 補助金算定上事業費計 (A) | Q17: =SUM(Q12,Q14,Q16) -> 0
B19: 注１）事業認定後（又は交付決定後）に事業費が変更となる場合には上段に（ ）書きで変更前を記入すること。
B20: 注２）交付決定年月日、番号は事業認定後（又は交付決定後）に事業費が変更となる場合にのみ記入すること。
B21: 注３）記入欄には、本体機と付属品及びアタッチメントを併せて記入すること。

Sheet 能力算出(共通3)
A1: 【要綱別表】 （添付資料３）
A2: 導入機械能力算出基礎表
A4: ａ 機械１台当たりの能力
A5: 作業名 | B5: 作業機名 | C5: 区分 | E5: 時間当たり作業量（作業面積） | J5: １日当たり作業量（作業面積） | N5: 期間中の作業可能日数
D6: 能力等 | E6: 作業幅 | F6: 作業 | G6: 理論 | H6: ほ場作 | I6: ほ場 | J6: １日の | K6: 作業 | L6: 実作業 | M6: １日の | N6: 作業 | O6: 日数 | P6: 可能 | Q6: 可能 | R6: 期間中
D7: PS･条等 | F7: 速度 | G7: 作業量 | H7: 業効率 | I7: 作業量 | J7: 作業 | K7: 回数 | L7: 率 | M7: 作業 | N7: 期間 | P7: 日数率 | Q7: 日数 | R7: の作業
J8: 時間 | M8: 面積 | R8: 面積
E9: m | F9: ㎞/時 | G9: ha/時 | H9: ％ | I9: ha/時 | J9: 時 | K9: 回 | L9: ％ | M9: ha | N9: 月日～月日 | O9: 日 | P9: ％ | Q9: 日 | R9: ha
C10: 既存の 機械
C11: 導入 予定 機械
A12: 注（１） 上段は既存の機械、下段は導入しようとする機械について記入する。能力の異なる既存機械が複数ある時は、記入欄を適宜増やして記入する。
A13: 注（２） 作業量（作業面積）の算出方法については、「農業機械の適正導入に係る指針」の第５章第１の計算式を参照のこと。
A15: ｂ 導入必要台数
A16: 作業名 | B16: 作業機名 | C16: 利用 単位 | D16: 既存機械の能力 | F16: 不足 作業 面積 | G16: 導入 機械の 能力 | H16: 導入 必要 台数
D17: 台数 | E17: 作業可能単位
C18: ( ) | D18: 台 | E18: ( ) | F18: ( ) | G18: ( ) | H18: 台
A20: (注)１ 収穫・調整機械等については、作業ピーク時に対応できる能力とする。
A21: ２ この様式によることが困難な場合は、様式についてこだわらない。

Sheet 別紙（機械施設等の整備状況）
A1: ＜＜機械・施設等の整備状況＞＞
A3: 記入例 | B3: 参考にしてください
A5: 機械・施設名 | B5: 能力等 | C5: 台数等 | D5: 導入年度 | E5: 導入事業
A6: トラクター | B6: 35PS | C6: 1 | D6: H15
A7: ハロー | B7: 作業幅3.2m | C7: 1 | D7: H17
A8: 遠赤外線乾燥機 | B8: 50石 | C8: 1 | D8: H20
A9: 乗用田植機 | B9: 6条植 | C9: 1 | D9: H21 | E9: 新潟市がんばる農家支援事業（リース）
A10: ブロードキャスター | B10: 容量300 | C10: 1 | D10: H21 | E10: 新潟市環境保全型農業総合支援事業
A11: コンバイン | B11: 4条刈 | C11: 1 | D11: H8
A12: パイプハウス | B12: 9×27m | C12: 1 | D12: H22 | E12: 新潟市がんばる農家支援事業（リース）
A13: ・現在所有している農業用機械について記載してください。
A14: ・補助事業を活用して導入（リース）した機械については，活用事業名を記載してください。
A17: 記入欄 | B17: ここに記載してください
A19: 機械・施設名 | B19: 能力等 | C19: 台数等 | D19: 導入年度 | E19: 導入事業

Sheet 個１果樹
B1: 個別様式１号 果樹産地生産振興支援 実施計画（実績）一覧表
B3: 番号 | C3: 生産者名 | D3: 住所 | E3: 認定状況等 ※下記の凡例 番号による | I3: 品目名 | J3: 品種名 | K3: 栽培面積 | L3: 実施計画 ・ 【補助金交付申請】 | W3: 実施実績 ・ 【実績報告】
G4: 左記の認定年月日 | L4: 更新品種名 | M4: 更新 計画面積 | N4: 更新ほ場 地番 | O4: 穂木 苗木 単価 | P4: 穂木 苗木 本数 | Q4: 資材名 | R4: 資材 単価 | S4: 資材 個数 | T4: 費用 合計 | U4: 補助対象 事業費 ① | V4: 交付申請額 （①の合計 *1/2） | W4: 更新 実施面積 | X4: 更新ほ場 地番 | Y4: 穂木 苗木 単価 | Z4: 穂木 苗木 本数 | AA4: 資材名 | AB4: 資材 単価 | AC4: 資材 個数 | AD4: 費用 合計 | AE4: 補助対象 事業費 ② | AF4: 精算額 （②の合計 *1/2） | AG4: 増減の 理由等
K5: （ａ） | M5: （ａ） | O5: （円） | P5: （本） | R5: （円） | S5: （個） | T5: （円） | U5: （円） | V5: （円） | W5: （ａ） | Y5: （円） | Z5: （本） | AB5: （円） | AC5: （個） | AD5: （円） | AE5: （円） | AF5: （円）
C6: 〇〇 〇〇 | E6: 1 | G6: ○○年〇月〇日 | I6: もも | J6: ○○白桃 | K6: 50 | L6: ○○白桃 | M6: 10 | O6: 1200 | P6: 50 | Q6: ○○ | R6: 100 | S6: 50 | T6: =+O6*P6+R6*S6 -> 65000 | U6: =T6 -> 65000 | W6: 12 | Y6: 1200 | Z6: 60 | AA6: ○○ | AB6: 100 | AC6: 52 | AD6: =+Y6*Z6+AB6*AC6 -> 77200 | AE6: =AD6 -> 77200
T7: =+O7*P7 -> 0 | U7: =T7 -> 0 | AD7: =+Y7*Z7 -> 0 | AE7: =AD7 -> 0
T8: =+O8*P8 -> 0 | U8: =T8 -> 0 | AD8: =+Y8*Z8 -> 0 | AE8: =AD8 -> 0
T9: =+O9*P9 -> 0 | U9: =T9 -> 0 | AD9: =+Y9*Z9 -> 0 | AE9: =AD9 -> 0
T10: =+O10*P10 -> 0 | U10: =T10 -> 0 | AD10: =+Y10*Z10 -> 0 | AE10: =AD10 -> 0
T11: =+O11*P11 -> 0 | U11: =T11 -> 0 | AD11: =+Y11*Z11 -> 0 | AE11: =AD11 -> 0
T12: =+O12*P12 -> 0 | U12: =T12 -> 0 | AD12: =+Y12*Z12 -> 0 | AE12: =AD12 -> 0
T13: =+O13*P13 -> 0 | U13: =T13 -> 0 | AD13: =+Y13*Z13 -> 0 | AE13: =AD13 -> 0
T14: =+O14*P14 -> 0 | U14: =T14 -> 0 | AD14: =+Y14*Z14 -> 0 | AE14: =AD14 -> 0
T15: =+O15*P15 -> 0 | U15: =T15 -> 0 | AD15: =+Y15*Z15 -> 0 | AE15: =AD15 -> 0
T16: =+O16*P16 -> 0 | U16: =T16 -> 0 | AD16: =+Y16*Z16 -> 0 | AE16: =AD16 -> 0
T17: =+O17*P17 -> 0 | U17: =T17 -> 0 | AD17: =+Y17*Z17 -> 0 | AE17: =AD17 -> 0
T18: =+O18*P18 -> 0 | U18: =T18 -> 0 | AD18: =+Y18*Z18 -> 0 | AE18: =AD18 -> 0
... T30: =+O30*P30 -> 0 | U30: =T30 -> 0 | AD30: =+Y30*Z30 -> 0 | AE30: =AD30 -> 0
C31: 合計 | K31: =SUM(K7:K30) -> 0 | M31: =SUM(M7:M30) -> 0 | P31: =SUM(P7:P30) -> 0 | S31: =SUM(S7:S30) -> 0 | T31: =SUM(T7:T30) -> 0 | U31: =SUM(U7:U30) -> 0 | V31: =ROUNDDOWN(U31/2,-3) -> 0 | W31: =SUM(W7:W30) -> 0 | Z31: =SUM(Z7:Z30) -> 0 | AC31: =SUM(AC7:AC30) -> 0 | AD31: =SUM(AD7:AD30) -> 0 | AE31: =SUM(AE7:AE30) -> 0 | AF31: =ROUNDDOWN(AE31/2,-3) -> 0
C32: ※「栽培面積」の欄には、事業実施年度の栽培面積を記載する。
C33: ※凡例：該当する番号を記入する。
C34: （１）農業経営改善計画認定者（認定農業者）又は認定見込者、（２）持続性の高い農業生産方式の導入計画認定者（エコファーマー）又は環境負荷低減事業活動実施計画認定者（にいがたエコファーマー）。いずれも認定見込者を含む。（３）新潟県特別栽培農産物認証制度認証者、（４）有機JAS認証制度認証者、（５）食と花の銘産品を生産する販売農家
C36: ※凡例（１）農業経営改善計画認定者（認定農業者）は、「農業経営改善自己チェック」又は「web農業簿記システム」の実施状況について確認すること。
G37: ○ | H37: ○
G38: ― | H38: ―
H39: 不要

Sheet 個２省エネ
B1: 個別様式２号 省エネルギー型被覆資材等導入支援 実施 計画・実績（外・内・修） 一覧表
B3: 番号 | C3: 団体名 | D3: 氏名 法人名 | E3: 住所 | F3: 認定状況等 ※下記の凡例 番号による | J3: 施設 番号 | K3: 圃場住所 | L3: 施設 面積 | M3: 既存 ﾌｨﾙﾑﾀｲﾌﾟ | N3: 園芸品目の栽培概要 | S3: 実施計画 ・ 【補助金交付申請】 | AB3: 実施実績 ・ 【実績報告】
H4: 左記の認定年月日 | S4: 施工 予定 ﾌｨﾙﾑﾀｲﾌﾟ | T4: 対象 面積 | U4: 施工着手 予定 年月日 | V4: 施工完了 予定 年月日 | W4: 資材費 | X4: 補助対象 事業費 | Y4: 補助率 | Z4: 交付申請額 （補助金額） | AA4: 受益者 負担金 | AB4: 施工 ﾌｨﾙﾑﾀｲﾌﾟ | AC4: 対象 面積 | AD4: 施工 着手 年月日 | AE4: 施工 完了 年月日 | AF4: 資材費 | AG4: 補助対象 事業費 | AH4: 補助率 | AI4: 精算額 （補助金額） | AJ4: 受益者 負担金 | AK4: 増減 の 理由等
N5: 品目 | O5: 栽培期間 | R5: 保温 期間
L6: （㎡） | S6: （修繕内容） | T6: （㎡） | W6: （円） | X6: （円） | Z6: （円） | AA6: （円） | AB6: （修繕内容） | AC6: （㎡） | AF6: （円） | AG6: （円） | AI6: （円） | AJ6: （円）
B7: 1 | C7: 学校ハウス組合 | D7: 〇〇 〇〇 | E7: 中央区学校町通１番町 | F7: 1 | J7: 1 | K7: 中央区学校町１－２ | L7: 990 | N7: アイリス | O7: 12 | P7: ～ | Q7: 3 | R7: 3 | U7: 39751 | V7: 39751 | W7: 123456 | X7: =W7 -> 123456 | AD7: 39751 | AE7: 39751 | AF7: 123456 | AG7: =AF7 -> 123456
D8: 〇〇 〇〇 | E8: 中央区学校町通２番町 | F8: 1 | J8: 2 | K8: 中央区学校町１－３ | L8: 990 | N8: チューリップ | O8: 1 | P8: ～ | Q8: 3 | R8: 3 | U8: 39753 | V8: 39753 | W8: 456789 | X8: =W8 -> 456789 | AD8: 39753 | AE8: 39753 | AF8: 456789 | AG8: =AF8 -> 456789
D9: 〇〇 〇〇 | E9: 中央区学校町通３番町 | F9: 2 | J9: 3 | K9: 中央区学校町１－４ | L9: 990 | N9: トマト | O9: 11月 | P9: ～ | Q9: 3月 | R9: なし | U9: 39753 | V9: 39753 | W9: 306000 | X9: =W9 -> 306000 | AD9: 39753 | AE9: 39753 | AF9: 306000 | AG9: =AF9 -> 306000
B10: 2 | D10: 〇〇 〇〇 | E10: 中央区学校町通４番町 | F10: 3 | J10: 1 | K10: 中央区学校町２－２ | L10: 990 | N10: チューリップ | O10: 1 | P10: ～ | Q10: 3 | R10: 3 | U10: 39753 | V10: 39753 | W10: =50000*1.05 -> 52500 | X10: =W10 -> 52500 | AD10: 39753 | AE10: 39753 | AF10: =50000*1.05 -> 52500 | AG10: =AF10 -> 52500
J11: 2 | K11: 中央区学校町２－３ | L11: 990 | N11: チューリップ | O11: 1 | P11: ～ | Q11: 3 | R11: 3 | U11: 39753 | V11: 39753 | W11: =600000*1.05 -> 630000 | X11: =W11 -> 630000 | AD11: 39753 | AE11: 39753 | AF11: =600000*1.05 -> 630000 | AG11: =AF11 -> 630000
P12: ～ | X12: =W12 -> 0 | AG12: =AF12 -> 0
P13: ～ | X13: =W13 -> 0 | AG13: =AF13 -> 0
P14: ～ | X14: =W14 -> 0 | AG14: =AF14 -> 0
P15: ～ | X15: =W15 -> 0 | AG15: =AF15 -> 0
P16: ～ | X16: =W16 -> 0 | AG16: =AF16 -> 0
P17: ～ | X17: =W17 -> 0 | AG17: =AF17 -> 0
P18: ～ | X18: =W18 -> 0 | AG18: =AF18 -> 0
P19: ～ | X19: =W19 -> 0 | AG19: =AF19 -> 0
P20: ～ | X20: =W20 -> 0 | AG20: =AF20 -> 0
P21: ～ | X21: =W21 -> 0 | AG21: =AF21 -> 0
P22: ～ | X22: =W22 -> 0 | AG22: =AF22 -> 0
P23: ～ | X23: =W23 -> 0 | AG23: =AF23 -> 0
... P31: ～ | X31: =W31 -> 0 | AG31: =AF31 -> 0
B32: 合計 | E32: =+COUNTA(B12:B31) -> 0 | L32: =SUM(L12:L31) -> 0 | T32: =SUM(T12:T31) -> 0 | W32: =SUM(W12:W31) -> 0 | X32: =SUM(X12:X31) -> 0 | Y32: 0.3 | Z32: =ROUNDDOWN(X32*Y32,-3) -> 0 | AA32: =X32-Z32 -> 0 | AC32: =SUM(AC12:AC31) -> 0 | AF32: =SUM(AF12:AF31) -> 0 | AG32: =SUM(AG12:AG31) -> 0 | AH32: 0.3 | AI32: =ROUNDDOWN(AG32*AH32,-3) -> 0 | AJ32: =AG32-AI32 -> 0 | AK32: =SUM(AK7:AK31) -> 0 | AM32: 0.3
C33: ※凡例：該当する番号を記入する。 | AM33: 0.15
C34: （１）農業経営改善計画認定者（認定農業者）又は認定見込者、（２）持続性の高い農業生産方式の導入計画認定者（エコファーマー）又は認定見込者、（３）新潟県特別栽培農産物認証制度認証者、（４）有機JAS認証制度認証者、（５）食と花の銘産品生産者
C36: （１）農業経営改善計画認定者（認定農業者）又は認定見込者、（２）持続性の高い農業生産方式の導入計画認定者（エコファーマー）又は環境負荷低減事業活動実施計画認定者（にいがたエコファーマー）。いずれも認定見込者を含む。（３）新潟県特別栽培農産物認証制度認証者、（４）有機JAS認証制度認証者、（５）食と花の銘産品を生産する販売農家
H40: ○ | I40: ○
H41: ― | I41: ―
I42: 不要

Sheet 省エネ確認シート
B1: 個別様式3号
B3: 省エネに向けた取り組み確認シート
B6: ≪点検方法≫
B7: ・当該年度に実施した取組内容に基づき、各項目について実行状況を点検します。 ・実行できない項目がある場合は、チェック欄には印を付けず、その項目ごとに下欄にその理由、 改善の予定などを記入します。
B9: 【外張被覆】
F10: 加温開始前～期間中のチェックポイント | Y10: チェック欄
C11: 1 | E11: 温室内外に光を妨げるような障害物がないか
C12: 2 | E12: 被覆資材が汚れていないか
C13: 3 | E13: 温室の被覆資材の破れや隙間を点検したか
C14: 4 | E14: 天窓や出入口部の破損や隙間を点検したか
C15: 5 | E15: 被覆資材留具の緩みを点検したか
C16: 6 | E16: 換気扇シャッターや使用しない出入口の目張り、側面巻き上げフィルムの固定をしたか
B18: 【内張カーテン】※張替えを行った場合のみ
F19: 加温開始前～期間中のチェックポイント | Y19: チェック欄
C20: 1 | E20: 内張カーテンに破れや隙間はないか
C21: 2 | E21: 内張カーテン裾部の隙間を点検をしたか
C22: 3 | E22: ハウス出入口付近や妻面は隙間のないように保温対策されているか
C24: 省エネ暖房に向けた基本的な項目です。
C25: これらの実践により10％程度の燃油削減が期待されます。
B27: ※実行できない項目がある場合等の理由、改善の予定など（記入欄）
AI40: ✔

Sheet (添付1)実需との結付 
B2: 添付資料１
B4: 需要者との結び付き実績書
B6: 補助事業者 (農業者等) 又は 認定方針作成者 | D6: 氏名 （法人にあっては名称及び代表者の氏名）
D7: 住所 （法人にあっては所在地）
B9: 用途区分 | K9: 加工用米(うるち)
K10: 加工用米(もち)
B11: 需要者情報 | K11: 米粉用米
B12: 社名 | D12: 住所 （本社が新潟市外の場合、 市内にある支社・営業所等） | E12: 品種 | G12: 補助対象 出荷数量（㎏） | K12: 酒造好適米
B19: 合計
B22: 番号 | C22: 補助事業者(農業者等) | E22: 認定区分 （表下の注１から選択） | F22: 出荷方式 （一括 または 区分） | G22: 数量(kg) | H22: 面積(a) | I22: 助成金合計 （単位：円） ※対象者ごとに 千円未満切捨て
C24: 氏名 | D24: 住所 | G24: 数量(kg) | I24: 助成金合計 （単位：円） ※千円未満切捨て
K25: 一括
K26: 区分
B56: 合 計 | F56: －
B57: （注１）認定区分は、１：認定農業者，２：認定新規就農者，３：集落営農のいずれかから選択
B58: （注２）補助対象面積は１ａ未満切捨てにより算定する。
B59: （注３）用途別に作成する。（加工用うるち米，加工用もち米，米粉用米、酒造好適米ごと。）
E63: 認定農業者
E64: 認定新規就農者
E65: 集落営農

Sheet (添付２)新市場
B2: 添付資料２
B4: 新市場開拓用米取組拡大支援実績書
B7: 番号 | C7: 氏名 | D7: 住所 | E7: 認定区分 (認定農業者、認定新規就農者、集落営農のいずれか) | F7: 取組面積(a) | H7: 補助対象 面積 (a) | I7: 助成金額 (単位：円） ※千円未満切捨て
F8: 前年産 | G8: 当年産
B35: 合計
B36: (注1)補助対象面積は、1a未満切捨てにより算定する。

Sheet (添付３)麦・大豆
B1: 添付資料３
B2: 地域内流通に向けた麦・大豆いいものづくり支援実績書
B5: 氏名又は生産組織名 | C5: 認定区分 （認定農業者、認定新規就農者、集落営農のいずれか） | D5: 対象品目 | E5: 交付対象面積 A (a) | F5: 農産物検査 数量 B (kg) | G5: 単収 C=B/A×10 (kg/10a) | H5: 単価 D (円/a) | I5: 補助金額 E=A×D (円)
B31: 合計
H32: ※千円未満切捨て
B34: ※補助対象面積は１ａ未満切捨てにより算定する。
B35: ※行は必要に応じて加除すること。

Sheet (添付４-1)いいものづくり大豆
D2: 添付資料４ー１
D4: いいものづくりに向けた生産活動規範点検シート（大豆の生産）
D7: 《点検方法》
D8: ・毎年、当該年度に実施した取組内容に基づき、各項目について実行状況を点検します。 ・点検は、次ページ「いいものづくりをすすめる技術対策」を参考に農業者自らが行い、実行できていると判断する場合にはチェック欄に印を付します。 ・実行していない項目がある場合は、チェック欄には印を付けず、その項目ごとに下欄にその理由、改善の予定などを記入します。 ・作成した点検シートと、９の項目で保存した記録は、次回の点検まで保存します。 ・下欄の改善が予定に従って実行できない場合は、関係機関・団体と改善計画書を作成し、提出します。
AM16: チェック欄 | AZ16: ✔
E17: １ 耕うん・整地前に、ほ場の排水対策を行った。
E21: ２ 堆肥等の有機物や土づくり肥料、土壌に併せ石灰質肥料を施用した。
E25: ３ 品種に応じ適期に播種した。または、播種時期に応じた播種量とした。
E29: ４ 裏面の技術対策を参考に、雑草対策を行った。
E33: ５ 裏面の技術対策を参考に、適期に防除を行った。
E37: ６ 裏面の技術対策を参考に、中耕・培土を行った。
E41: ７ 収量・品質低下を防ぐため、適切な水分補給を行い、干ばつ対策を行った。
E45: ８ 圃場観察および茎水分、子実水分等の確認により、適期に収穫した。
E49: ９ 生産活動の内容が確認できるよう、生産・管理の記録を行った。
D55: ※該当がない項目、実行できない項目がある場合等の理由、改善の予定など（記入欄）
AA66: 点検日 年 月 日
AA68: 点検者
D70: いいものづくりをすすめる技術対策
D72: 前ページの各項目について、具体的な取組は次のとおりです。いいものづくりをすすめる技術対策として、次の取組かこれと同程度の効果がある取組を行った場合、その項目を実行したものと判断して印を付します。 取組ができなかった項目は次年度の改善の参考として取り組みましょう。
D79: 排水対策 | F79: □ ほ場の団地化 □ 周囲明渠の掘削 □ 弾丸暗渠の施工 □ 心土破砕 □ 畝立て播種
D87: 土づくり・施肥 | F87: □ 完熟堆肥の施用 □ 緑肥の施用 □ 土づくり肥料の施用 □ 石灰質肥料の施用
D96: 耕うん・播種 | F96: □ 砕土率を70％以上を目安とした耕うん作業 □ 品種に応じた適期播種 （５月下旬以前の早過ぎる播種、「里のほほえみ」の裂皮発生防止のため６月上旬以降播種） □ 播種期等に応じた播種量
D104: 雑草・病害虫防除 | F104: □ 播種後の除草剤散布 □ 生育期の中耕・培土作業 □ 生育期の除草剤散布 □ 種子消毒 □ 生育期の紫斑病防除 □ 生育期の子実害虫防除
D114: 中耕・培土 | F114: □ 培土を１回実施 □ 培土を２回実施 □ 培土を３回実施 □ 培土後は畦間の溝を圃場内の排水溝や周囲暗渠への連結
D121: 干ばつ対策 | F121: □ 梅雨明け以降暗渠栓の閉鎖 □ 畝間かん水
D128: 適期収穫 | F128: □ 成熟期後の早期収穫開始
D134: 生産情報 | F134: □ 栽培・生産管理記録帳票（ノート、伝票等を含む）の保存

Sheet (添付４-2)いいものづくり麦
D2: 添付資料４－２
D4: いいものづくりに向けた生産活動規範点検シート（大麦・小麦の生産）
D7: 《点検方法》
D8: ・毎年、当該年度に実施した取組内容に基づき、各項目について実行状況を点検します。 ・点検は、次ページ「いいものづくりをすすめる技術対策」を参考に農業者自らが行い、実行できていると判断する場合にはチェック欄に印を付します。 ・実行していない項目がある場合は、チェック欄には印を付けず、その項目ごとに下欄にその理由、改善の予定などを記入します。 ・作成した点検シートと、９の項目で保存した記録は、次回の点検まで保存します。 ・下欄の改善が予定に従って実行できない場合は、関係機関・団体と改善計画書を作成し、提出します。
AX14: ✔
AM16: チェック欄
E17: １ 耕うん・整地前に、ほ場の排水対策を行った。
E21: ２ 堆肥等の有機物や土づくり肥料、土壌に併せ石灰質肥料を施用した。
E25: ３ 播種様式や播種時期に応じて適期に播種した。
E29: ４ 裏面の技術対策を参考に、雑草対策を行った。
E33: ５ 裏面の技術対策を参考に、適期に防除を行った。
E37: ６ 裏面の技術対策を参考に、適期に追肥を行った。
E41: ７ 成熟期を判定し、適期に収穫した。
E45: ８ 乾燥調製を適正に行った。
E49: ９ 生産・管理の記録を行った。
D55: ※該当がない項目、実行できない項目がある場合等の理由、改善の予定など（記入欄）
AA66: 点検日 年 月 日 | AE66: 年 月 日
AA68: 点検者
D70: いいものづくりをすすめる技術対策
D72: 前ページの各項目について、具体的な取組は次のとおりです。いいものづくりをすすめる技術対策として、次の取組かこれと同程度の効果がある取組を行った場合、その項目を実行したものと判断して印を付します。 取組ができなかった項目は次年度の改善の参考として取り組みましょう。
D78: 排水対策 | F78: □ ほ場の団地化 □ 周囲明渠の掘削 □ ほ場内排水溝の施工 □ 弾丸暗渠の施工 □ 心土破砕
D85: 土づくり・施肥 | F85: □ 完熟堆肥の施用 □ 緑肥の施用 □ 石灰質肥料の施用
D94: 耕うん・播種 | F94: □ 適期播種（大麦：9/25～10/10、小麦：9/25～10/15） （播種様式に応じた播種量調整） □ ドリル播（大麦：7～8ｋｇ/10a、小麦：8～10kg/10a） □ 全面全層播（大麦：10～12kg/10a、小麦：12～14kg/10a） □ 全面表層播（大麦：８～12kg/10a、小麦10～14kg/10a；砕土の良否により調整）
D103: 雑草・病害虫防除 | F103: □ 播種後の除草剤散布 □ 生育期の除草剤散布 □ 種子消毒 □ 赤かび病防除 □ その他実害虫防除（ ）
D113: 追肥 | F113: □ 越冬前追肥 □ 消雪直後（越冬後)追肥 □ 茎立期追肥 □ 止葉抽出期追肥 □ 穂揃い期追肥(小麦のみ）
D121: 適期収穫 | F121: □ 成熟期を判定し、２～３日後(穀粒水分35％以下）から収穫開始 □ 大麦：収穫は成熟期後7日頃までに終了 □ 小麦：収穫は降雨の前（本格的な梅雨入り前）に終了
D127: 適正な乾燥調製 | F127: （大麦） □ 乾燥速度毎時１％（50～60℃：稲用の規定温度よりも５℃位高め） □ 仕上げ水分は13％ □ ふるい目2.3mm以上 （小麦） □ 乾燥速度毎時0.8％（45～50℃：稲用の規定温度） □ 仕上げ水分は12.5％ □ ふるい目2.2mm以上
D138: 生産情報 | F138: □ 栽培・生産管理記録帳票（ノート、伝票等を含む）の保存

Sheet (添付５)地域内流通
C2: 添付資料５
C3: 地域内流通実践支援実績書
C6: （１）面積あたりで確認できた地域内流通実績
C7: 氏名又は生産組織名 | D7: 認定区分 （認定農業者、認定新規就農者、集落営農のいずれか） | E7: 対象品目 | H7: 補助対象 面積 C (a) | I7: 単価 D (円/a) | J7: 補助金額 E=C×D (円) | K7: 需要者 （地域内流通の促進状況）
K8: 社名 | L8: 住所
C16: 合計
C18: （２）数量あたりで確認できた地域内流通実績
C19: 氏名又は生産組織名 | D19: 認定区分 （認定農業者、認定新規就農者、集落営農のいずれか） | E19: 対象品目 | F19: 対象数量 A (kg) | G19: 実績単収 B (kg/10a) | H19: 換算面積 C （a） | I19: 単価 D (円/a) | J19: 補助金額 E=C×D (円) | K19: 需要者 （地域内流通の促進状況）
K20: 社名 | L20: 住所
C28: 合計
C31: ※実績単収 については、添付資料３の単収欄の数値を記入する。
C32: ※補助対象面積（換算面積）については、１ａ未満切捨てにより算定する。
C33: ※補助金額 について、千円未満を切捨てること。
C34: ※行は必要に応じて加除すること。

Sheet (添付６)地域特産
B1: 添付資料６
B3: 地域特産作物実績書
B5: 生産出荷実績
B6: 氏 名 | C6: 地域特産作物名 | D6: 販売 の 有無 | E6: 補助対象面積 A (a) | F6: 単価 B (円/a) | G6: 補助金額 C=A×B (円) | H6: 備考
L7: 有
L8: 無
B23: 合計
G24: ※千円未満切捨て
B25: ※補助対象面積は１ａ未満切捨てにより算定する。

Sheet (添付７)園芸産地強化支援
A1: 添付資料７
A3: 園芸産地強化支援 産地活性化計画（計画書・実績報告書）
A7: １．取組概要
B8: 取組主体名
B9: 取組主体住所
B10: 実施場所
B11: 取組品目
B12: 事業実施期間
A14: ２．新たな取組内容 | AA14: □
B15: 取組項目 | F15: □ | G15: 生産基盤の強化 | AA15: ☑
F16: □ | G16: 新規「品種」「作型」「栽培技術」の導入
F17: □ | G17: 新規取組者向けの啓発・研修
B18: 内容
A21: ３．事業計画（計画・実績）
B22: 年月日 | F22: 内容 | R22: 備考
A28: ４．事業費（計画・実績）
B29: （収入） | U29: 単位：円
B30: 項目 | F30: 内容 | R30: 金額
B33: 収入計 | R33: =SUM(R31:V32) -> 0
B35: （支出） | U35: 単位：円
B36: 項目 | F36: 内容 | R36: 金額
B40: 支出計 | R40: =SUM(R37:V39) -> 0
A42: ５．事業成果（実績時のみ記載。具体的に記載すること。）

Sheet 暴排（個人）
A1: 添付資料８－１
B4: 暴力団等の排除に関する誓約書兼同意書
B6: 私は、新潟市元気な農業応援事業費補助金交付要綱の規定に基づく補助金の申請を行うに当たり、下記の事項について誓約します。
B8: 記
B9: １ 私（当法人・当団体）は次のいずれにも該当しません。
B10: (1) | C10: 暴力団（新潟市暴力団排除条例（平成24年新潟市条例第61号）第２条第２号に規定する暴力団をいう。以下同じ。）
B11: (2) | C11: 暴力団員（新潟市暴力団排除条例第２条第３号に規定する暴力団員をいう。以下同じ。）
B12: (3) | C12: 役員等（法人である場合は役員又は支店若しくは営業所の代表者その他これらと同等の責任を有する者をいい、法人以外の団体である場合は代表者、理事その他これらと同等の責任を有する者をいう。）が暴力団員であるもの
B13: (4) | C13: 暴力団又は暴力団員が経営に実質的に関与しているもの
B14: (5) | C14: 自己、その属する法人その他の団体若しくは第三者の不正の利益を図る目的又は第三者に損害を加える目的をもって、暴力団又は暴力団員を利用しているもの
B15: (6) | C15: 暴力団又は暴力団員に対して資金を提供し、又は便宜を供与するなど直接的又は積極的に暴力団の維持運営に協力し、又は関与しているもの
B16: (7) | C16: その他暴力団又は暴力団員と社会的に非難されるべき関係を有するもの
B17: ２ 新潟市暴力団排除条例の主旨に基づき別紙名簿を提出します。名簿に記載されたすべての者は、暴力団員等であるか否かの確認のため、新潟県警察本部に対してこの名簿による照会が行われる場合があることに同意しております。なお、名簿記載内容は事実と相違ありません。
K20: =交付申請書!U2 -> 年 月 日
B21: 新潟市長 様
E23: 住所
E24: =交付申請書!Q5 -> 0
E26: （ふりがな）
E27: 氏名 | F27: =交付申請書!Q7 -> 0
E29: 生年月日（ 明治・ 大正 ・ 昭和 ・ 平成 ） 年 月 日
E31: 性別 男 ・ 女
A33: ※ 市では、新潟市暴力団排除条例に基づき、行政事務全般から暴力団を排除するため、申請者に暴力団等ではない旨の誓約をお願いしています。 ※ 個人情報については、暴力団員等の該当性の確認にのみ使用し、その他の目的には一切使用しません。また、その取扱いについては、新潟市個人情報の 保護に関する法律施行条例を遵守し、適正に管理いたします。

Sheet 暴排（法人・団体）
A1: 添付資料８－２
B4: 暴力団等の排除に関する誓約書兼同意書
B6: 私（当法人・当団体）は、新潟市元気な農業応援事業費補助金交付要綱の規定に基づく補助金の申請を行うに当たり、下記の事項について誓約します。
B8: 記
B9: １ 私（当法人・当団体）は次のいずれにも該当しません。
B10: (1) | C10: 暴力団（新潟市暴力団排除条例（平成24年新潟市条例第61号）第２条第２号に規定する暴力団をいう。以下同じ。）
B11: (2) | C11: 暴力団員（新潟市暴力団排除条例第２条第３号に規定する暴力団員をいう。以下同じ。）
B12: (3) | C12: 役員等（法人である場合は役員又は支店若しくは営業所の代表者その他これらと同等の責任を有する者をいい、法人以外の団体である場合は代表者、理事その他これらと同等の責任を有する者をいう。）が暴力団員であるもの
B13: (4) | C13: 暴力団又は暴力団員が経営に実質的に関与しているもの
B14: (5) | C14: 自己、その属する法人その他の団体若しくは第三者の不正の利益を図る目的又は第三者に損害を加える目的をもって、暴力団又は暴力団員を利用しているもの
B15: (6) | C15: 暴力団又は暴力団員に対して資金を提供し、又は便宜を供与するなど直接的又は積極的に暴力団の維持運営に協力し、又は関与しているもの
B16: (7) | C16: その他暴力団又は暴力団員と社会的に非難されるべき関係を有するもの
B17: ２ 新潟市暴力団排除条例の主旨に基づき別紙名簿を提出します。名簿に記載されたすべての者は、暴力団員等であるか否かの確認のため、新潟県警察本部に対してこの名簿による照会が行われる場合があることに同意しております。なお、名簿記載内容は事実と相違ありません。
K20: =交付申請書!U2 -> 年 月 日
B21: 新潟市長 様
E23: （法人，団体にあっては所在地）
E24: 住所
E25: =交付申請書!Q5 -> 0
E27: （法人、団体にあっては名称及び代表者の氏名）
E28: =交付申請書!Q7 -> 0
E29: 氏名 | F29: =交付申請書!Q8 -> 0
E30: 生年月日（ 明治・ 大正 ・ 昭和 ・ 平成 ） 年 月 日
A31: ※ 市では、新潟市暴力団排除条例に基づき、行政事務全般から暴力団を排除するため、申請者に暴力団等ではない旨の誓約をお願いしています。
B32: 名簿（役員等の一覧表）
B33: 【記載方法】 ① 以下の名簿に、役職、氏名、カナ、生年月日、性別、住所を記載してください。 ② 法人の場合には登記事項証明書に記載されている役員又は支店若しくは事務所の代表者を記載してください。団体及び個人事業者の場合には代表者を記載してください。 ③ 生年月日の記載について、年号の欄には、明治＝Ｍ、大正＝Ｔ、昭和＝Ｓ、平成＝Ｈのいずれかを記載してください。 ④ 性別の記載について、男性＝Ｍ、女性＝Ｆのいずれかを記載してください。 ⑤ 同一内容であれば任意の様式での提出も可とします。
B34: (ふりがな）
B35: 法人・団体・個人名： | E35: =交付申請書!Q7 -> 0
A37: （６）事業者の構成員名簿及び定款又はこれに準ずるもの | B37: 役 職 名 | D37: ※ 氏名(漢字) 氏と名を１文字空ける | E37: ※ 氏名(ｶﾅ) 氏と名を１文字空ける | F37: ※ 生年月日 年号ｱﾙﾌｧﾍﾞｯﾄ 明治－M 大正－T 昭和－S 平成－H | J37: ※ 性別 ｱﾙﾌｧﾍﾞｯﾄ 男－M 女－F | K37: 住 所
A38: （７）活用する空き店舗の付近見取図、建物平面図 | F38: 年号 | G38: 年 | H38: 月 | I38: 日
A39: （８）商店街団体以外が申請者となる場合は、商店街団体の賛同を示す書面 | B39: 【記載例】 代表取締役社長 | D39: 新潟 太郎 | E39: ニイガタ タロウ | F39: S | G39: 11 | H39: 11 | I39: 11 | J39: M | K39: 新潟市中央区○○1丁目1番1号
A40: （９）店舗の改装を行う場合は、改装費に関する２社以上の見積書
B49: ※上記に記載された個人情報については、暴力団員等の該当性の確認にのみ使用し、その他の目的には一切使用 しません。また、その取扱いについては、新潟市個人情報の保護に関する法律施行条例を遵守し、適正に管理 いたします

Sheet 暴排（JA）
A1: 添付資料８－３
B4: 暴力団等の排除に関する誓約書兼同意書
B6: 私（当法人・当団体）は、新潟市元気な農業応援事業費補助金交付要綱の規定に基づく補助金の申請を行うに当たり、下記の事項について誓約します。
B8: 記
B9: １ 私（当法人・当団体）は次のいずれにも該当しません。
B10: (1) | C10: 暴力団（新潟市暴力団排除条例（平成24年新潟市条例第61号）第２条第２号に規定する暴力団をいう。以下同じ。）
B11: (2) | C11: 暴力団員（新潟市暴力団排除条例第２条第３号に規定する暴力団員をいう。以下同じ。）
B12: (3) | C12: 役員等（法人である場合は役員又は支店若しくは営業所の代表者その他これらと同等の責任を有する者をいい、法人以外の団体である場合は代表者、理事その他これらと同等の責任を有する者をいう。）が暴力団員であるもの
B13: (4) | C13: 暴力団又は暴力団員が経営に実質的に関与しているもの
B14: (5) | C14: 自己、その属する法人その他の団体若しくは第三者の不正の利益を図る目的又は第三者に損害を加える目的をもって、暴力団又は暴力団員を利用しているもの
B15: (6) | C15: 暴力団又は暴力団員に対して資金を提供し、又は便宜を供与するなど直接的又は積極的に暴力団の維持運営に協力し、又は関与しているもの
B16: (7) | C16: その他暴力団又は暴力団員と社会的に非難されるべき関係を有するもの
B17: ２ 新潟市暴力団排除条例の主旨に基づき別紙名簿を提出します。名簿に記載されたすべての者は、暴力団員等であるか否かの確認のため、新潟県警察本部に対してこの名簿による照会が行われる場合があることに同意しております。なお、名簿記載内容は事実と相違ありません。
K20: =交付申請書!U2 -> 年 月 日
B21: 新潟市長 様
E23: （法人，団体にあっては所在地）
E24: 住所
E25: =交付申請書!Q5 -> 0
E27: （法人、団体にあっては名称及び代表者の氏名）
E28: =交付申請書!Q7 -> 0
E29: 氏名 | F29: =交付申請書!Q8 -> 0
A30: ※ 市では、新潟市暴力団排除条例に基づき、行政事務全般から暴力団を排除するため、申請者に暴力団等ではない旨の誓約をお願いしています。

Sheet 前倒し申請理由書
C2: （参考様式）
U3: 年 月 日
C4: （宛先）新潟市長 中原 八一 様
B6: 前倒し申請における理由書
N8: 住所
N9: 氏名
E14: 令和 | G14: 年度新潟市元気な農業応援事業の | Q14: 作業時に使用する機械・施設について、 | AB14: 春夏
B15: 以下の理由から導入の遅れが見込まれるため、 | Q15: 作業要望期間に提出します。 | AB15: 秋冬
B16: 記
D18: ○ | E18: 導入機械・施設
D24: ○ | E24: 理由
D33: 以下について誓約します。（チェックをつけてください。）
D35: □ | E35: 令和 | G35: 年度元気な農業応援事業の | O35: 作業要望時に、同種の機械・施設の
E36: 要望は行いません。

Sheet 任意団体経営状況書
A1: （元気な農業応援事業 任意団体申請 認定農業者を除く構成員用）
B3: 農 業 経 営 状 況 書
K5: 令和 年 月 日
H8: 任意団体 構成員名 | I8: 住所
I9: 氏名
H10: 生年月日 | J10: 年 月 日 | M10: （ 歳）
H11: Ｔ Ｅ Ｌ
B14: 農業経営の現在の状況と目標 | C14: 作目・部門名 | F14: 現 状（令和 年） | J14: 目 標（令和 年）
F15: 作付面積 | J15: 作付面積
I17: a | M17: a
I18: a | M18: a
I19: a | M19: a
I20: a | M20: a
C21: 経営面積合計 | H21: a | L21: a
C22: 区 分 | F22: 地 目 | H22: 所在地（市町村名） | J22: =F14 -> 現 状（令和 年） | L22: =J14 -> 目 標（令和 年）
C23: 所有地 | K23: a | M23: a
K24: a | M24: a
C25: 借入地 | K25: a | M25: a
K26: a | M26: a
C27: 特定作業受託 | F27: 作 目 | H27: 作 業 | J27: =F14 -> 現 状（令和 年） | L27: =J14 -> 目 標（令和 年）
K28: a | M28: a
K29: a | M29: a
C30: 作業受託 | D30: 作 目 | G30: 作 業 | J30: =F14 -> 現 状（令和 年） | L30: =J14 -> 目 標（令和 年）
K31: a | M31: a
D32: 単 純 計 | K32: a | M32: a
D33: 換 算 後 | K33: a | M33: a
C34: 農畜産物の加工・販売その他の関連・附帯事業 | F34: 事業名 | H34: 内 容 | J34: =F14 -> 現 状（令和 年） | L34: =J14 -> 目 標（令和 年）
